BEGIN:VCALENDAR
VERSION:2.0
PRODID:-//池田聡のOFFICIAL SITEへようこそ - ECPv4.4.3//NONSGML v1.0//EN
CALSCALE:GREGORIAN
METHOD:PUBLISH
X-WR-CALNAME:池田聡のOFFICIAL SITEへようこそ
X-ORIGINAL-URL:https://satoshi.net
X-WR-CALDESC:Events for 池田聡のOFFICIAL SITEへようこそ
BEGIN:VEVENT
DTSTART;VALUE=DATE:20231217
DTEND;VALUE=DATE:20231217
DTSTAMP:20260424T125746
CREATED:20230920T120542Z
LAST-MODIFIED:20231215T051012Z
UID:4695-1702771200-1702857599@satoshi.net
SUMMARY:Live Only For Men 第7弾〜 男性限定X'masプチディナーショー完売しました
DESCRIPTION:【 日程 】2023年12月17日(日)\n【 会場 】trattorìa ROSSO 六本木\n（〒106-0032 東京都港区六本木３丁目１−２５ グランドプラザ1F）\n【 出演 】池田聡(vo/g) 、菅野大地(p/f)\n【 1部 】開場：12:00 / 開演：13:00 完売しました\n【 2部 】開場：16:00 / 開演：17:00 完売しました\n【 終演 】1部：14:20 / 2部：18:20\n各公演25席限定、入替有2部制\n【 料金 】¥8\,000(食事付)+1drink別途要\n【 参加資格 】戸籍上男性であること！\n【 LIVE内容 】今年は六本木のイタリアンレストラン貸切での豪華開催です。\n年末恒例&年にたった1日男性だけの夜！\n池田聡スタンダード楽曲はもちろんの事、様々な楽曲を初共演となる若手実力派ピアニスト菅野大地さんをお迎えし披露する超スペシャルなライヴです。\n有名シェフの料理を音楽と共にお楽しみください！\n\n【 ご予約方法 】\n◯ 日程：2023/9/20(木)22:00〜定員になり次第終了\n◯ 申込Mail：ikeda.satoshi.live@gmail.com\n◯ 件名：男性限定LIVE\n◯ 本文に下記をご入力ください\n・お名前\n・1部又は2部のご希望公演\n・人数\n・ご連絡先電話番号\n\n【 ご注意事項 】\n＊急なキャンセルはお食事準備の関係上及び座席数に限りもございますので、開催日1週間前よりキャンセル料金(全額)が掛かります。\n＊撮影、録音、録画はご遠慮ください。\n＊フラッシュやシャッター音、雑音等で他のお客様にご迷惑行為があった際はご退場頂くか公演中止となる場合がございますので、ご了承ください。
URL:https://satoshi.net/event/live-only-for-men-%e7%ac%ac7%e5%bc%be%e3%80%9c-%e7%94%b7%e6%80%a7%e9%99%90%e5%ae%9axmas%e3%83%97%e3%83%81%e3%83%87%e3%82%a3%e3%83%8a%e3%83%bc%e3%82%b7%e3%83%a7%e3%83%bc/
LOCATION:六本木３丁目１−２５グランドプラザ 1F\, 港区\, 東京都\, 〒106-0032\, Japan
CATEGORIES:02.ライヴ・イベント
END:VEVENT
END:VCALENDAR