BEGIN:VCALENDAR
VERSION:2.0
PRODID:-//池田聡のOFFICIAL SITEへようこそ - ECPv4.4.3//NONSGML v1.0//EN
CALSCALE:GREGORIAN
METHOD:PUBLISH
X-WR-CALNAME:池田聡のOFFICIAL SITEへようこそ
X-ORIGINAL-URL:https://satoshi.net
X-WR-CALDESC:Events for 池田聡のOFFICIAL SITEへようこそ
BEGIN:VEVENT
DTSTART;VALUE=DATE:20231209
DTEND;VALUE=DATE:20231209
DTSTAMP:20260424T005758
CREATED:20230920T115241Z
LAST-MODIFIED:20231013T043923Z
UID:4689-1702080000-1702166399@satoshi.net
SUMMARY:LIVE Action  in 東京 with  トウマツグアツand  ジミー岩崎SOLD OUT
DESCRIPTION:【 日程 】2023年12月9日(土) SOLD OUT\n【 会場 】汐留 BLUE MOOD\n（ 〒104-0045 東京都中央区築地5丁目6-10 浜離宮パークサイドプレイス1F ）\nhttps://blue-mood.jp\n【 開場 】17:30\n【 開演 】18:30\n【 料金 】前売り¥6\,500 / 当日¥7\,000\n（ 税込・指定席・1drink&1food別途要)\n◆ 前売り完売の時点で当日券はございません。\n【 出演者 】池田聡(vo/g) / トウマツグアツ(dr/perc.) / ジミー岩崎(P/f)\n【 LIVEメッセージ 】\nこれまで沖縄公演でしかご一緒できなかった沖縄孤高のミュージシャントウマツグアツさん(ディアマンテス)と、池田聡LIVEやイベントではお馴染みのジミー岩崎さんを東京・大阪のホーム会場へお迎えし、ピアノとドラムの編成でお送りします！\nレアな共演と楽曲をお見逃しなく！！\n\n【 ご予約 】2023/10/10(火)20時〜\n・申込み先メール：info.jointlive@gmail.com\n◯ 件名に下記をご入力ください。\n＊1209LIVE\n◯ 本文に下記をご入力ください。\n＊お名前 (会場様は会員番号もお願いします)\n＊人数\n＊ご連絡先\n上記、件名含む4点をご明記頂きますよう宜しくお願い致します。\n(・お申込み後、1日以上経過しても返信の無い場合は、受信設定やエラー返信でご連絡がつかない可能性がございます。特にモバイルメール( docomo / au / Softbank )をご使用の方は予めinfo.jointlive@gmail.comのドメイン登録を頂きお申込みください。\n【 お問合せ 】\n公演お問合せ：info.jointlive@gmail.com\nご予約時の件名とお間違いのなき様、件名は『 1209問合せ』とご入力頂きお問合せください。ご予約時の件名を間違われている方がいらっしゃるのでお気をつけください。\n\n【 ご注意事項 】\n＊撮影、録音、録画はご遠慮ください。\n＊公演中止以外での払い戻し不可となります。\n(ご予約権利の譲渡は可能です。)\n＊フラッシュやシャッター音、雑音等騒音で他のお客様にご迷惑行為があった際はご退場頂くか、公演自体が中断になる場合がございます。ご了承ください。
URL:https://satoshi.net/event/%e6%b1%a0%e7%94%b0%e8%81%a1-live-action-with-%e3%83%88%e3%82%a6%e3%83%9e%e3%83%84%e3%82%b0%e3%82%a2%e3%83%84and-%e3%82%b8%e3%83%9f%e3%83%bc%e5%b2%a9%e5%b4%8e/
LOCATION:築地5丁目6-10\, 中央区\, 東京都\, 104-0045
CATEGORIES:01.ライヴ
END:VEVENT
END:VCALENDAR