BEGIN:VCALENDAR
VERSION:2.0
PRODID:-//池田聡のOFFICIAL SITEへようこそ - ECPv4.4.3//NONSGML v1.0//EN
CALSCALE:GREGORIAN
METHOD:PUBLISH
X-WR-CALNAME:池田聡のOFFICIAL SITEへようこそ
X-ORIGINAL-URL:https://satoshi.net
X-WR-CALDESC:Events for 池田聡のOFFICIAL SITEへようこそ
BEGIN:VEVENT
DTSTART;VALUE=DATE:20231124
DTEND;VALUE=DATE:20231124
DTSTAMP:20260424T021056
CREATED:20230913T063612Z
LAST-MODIFIED:20230913T063612Z
UID:4672-1700784000-1700870399@satoshi.net
SUMMARY:ぶらりツアー 奈良
DESCRIPTION:【 日程 】2023年11月24日(金)\n【 会場 】Billy -THE LIVE-\n（〒630-8236 奈良県奈良市下三条町2-1 Si-Ro三条B1F）\nhttps://billythelive.amebaownd.com/\n【 開場 】18:00\n【 開演 】19:00\n【 料金 】前売り4\,500円、当日5\,000円（1Dr別）\n【ご予約・お問合せ】\nBilly -THE LIVE-\n℡：0742-93-5584\n℡：080-3807-8090（留守電可能）\nMail：billy@nifty.ne.jp\n\n【 ご注意事項 】\n＊急なキャンセルは他のご予約希望のお客様のご迷惑になる場合もございますので、公演1週間前までにお願いいたします。\n＊撮影、録音、録画はご遠慮ください。\n＊フラッシュやシャッター音、雑音等で他のお客様にご迷惑行為があった際はご退場頂く場合がございますので、ご了承ください。
URL:https://satoshi.net/event/%e3%81%b6%e3%82%89%e3%82%8a%e3%83%84%e3%82%a2%e3%83%bc-%e5%a5%88%e8%89%af-3/
LOCATION:下三条町2-1\, 奈良市\, 奈良県\, 630-8236\, Japan
CATEGORIES:01.ライヴ
END:VEVENT
END:VCALENDAR