BEGIN:VCALENDAR
VERSION:2.0
PRODID:-//池田聡のOFFICIAL SITEへようこそ - ECPv4.4.3//NONSGML v1.0//EN
CALSCALE:GREGORIAN
METHOD:PUBLISH
X-WR-CALNAME:池田聡のOFFICIAL SITEへようこそ
X-ORIGINAL-URL:https://satoshi.net
X-WR-CALDESC:Events for 池田聡のOFFICIAL SITEへようこそ
BEGIN:VEVENT
DTSTART;VALUE=DATE:20231117
DTEND;VALUE=DATE:20231117
DTSTAMP:20260424T123730
CREATED:20231113T031458Z
LAST-MODIFIED:20231113T031458Z
UID:4890-1700179200-1700265599@satoshi.net
SUMMARY:メディア出演情報 TBSラジオ 金曜ワイドラジオTOKYO「えんがわ」
DESCRIPTION:【 日程 】 2023年11月17日(金)\n【 放送局 】 TBSラジオ\n【 番組名 】 金曜ワイドラジオTOKYO「えんがわ」\n【 番組HP 】 https://www.tbsradio.jp/engawa/\n【 放送時間 】 毎週金曜14:00〜17:30\n【 DJ 】 外山惠理TBSアナウンサー / 玉袋筋太郎\n【 池田聡出演時間 】 15時以降\n※ 生放送の為、時間はこの限りではありません。\n※ 聴取方法 https://www.tbsradio.jp/listen/
URL:https://satoshi.net/event/%e3%83%a1%e3%83%87%e3%82%a3%e3%82%a2%e5%87%ba%e6%bc%94%e6%83%85%e5%a0%b1-tbs%e3%83%a9%e3%82%b8%e3%82%aa-%e9%87%91%e6%9b%9c%e3%83%af%e3%82%a4%e3%83%89%e3%83%a9%e3%82%b8%e3%82%aatokyo%e3%80%8c%e3%81%88/
CATEGORIES:06.ラジオ
END:VEVENT
END:VCALENDAR