BEGIN:VCALENDAR
VERSION:2.0
PRODID:-//池田聡のOFFICIAL SITEへようこそ - ECPv4.4.3//NONSGML v1.0//EN
CALSCALE:GREGORIAN
METHOD:PUBLISH
X-WR-CALNAME:池田聡のOFFICIAL SITEへようこそ
X-ORIGINAL-URL:https://satoshi.net
X-WR-CALDESC:Events for 池田聡のOFFICIAL SITEへようこそ
BEGIN:VEVENT
DTSTART;VALUE=DATE:20231115
DTEND;VALUE=DATE:20231115
DTSTAMP:20260424T154126
CREATED:20231113T032521Z
LAST-MODIFIED:20231113T032521Z
UID:4892-1700006400-1700092799@satoshi.net
SUMMARY:FC会員限定無料生配信
DESCRIPTION:FC会員限定無料生配信\n\n【 日程 】11月15日(水)\n【 時間 】19:00〜\n\n◯ 時間になりましたら、FCアプリ内のホーム画面の生配信投稿をクリックでご視聴頂けます。\n◯ スタンダード会員の方は、生配信視聴のみとなりますのでリアルタイムでご参加いただける方は是非！\n◯ VIP会員の方は生配信後も、アーカイブ付き(過去の配信全アーカイブも)見放題になっています！！\n\n※ 池田聡公式ファンクラブ https://fanicon.net/fancommunities/3799
URL:https://satoshi.net/event/fc%e4%bc%9a%e5%93%a1%e9%99%90%e5%ae%9a%e7%84%a1%e6%96%99%e7%94%9f%e9%85%8d%e4%bf%a1/
CATEGORIES:07.ネット配信,10.ファンクラブ会員限定イベント
END:VEVENT
END:VCALENDAR