BEGIN:VCALENDAR
VERSION:2.0
PRODID:-//池田聡のOFFICIAL SITEへようこそ - ECPv4.4.3//NONSGML v1.0//EN
CALSCALE:GREGORIAN
METHOD:PUBLISH
X-WR-CALNAME:池田聡のOFFICIAL SITEへようこそ
X-ORIGINAL-URL:https://satoshi.net
X-WR-CALDESC:Events for 池田聡のOFFICIAL SITEへようこそ
BEGIN:VEVENT
DTSTART;VALUE=DATE:20231025
DTEND;VALUE=DATE:20231025
DTSTAMP:20260426T001119
CREATED:20230930T035920Z
LAST-MODIFIED:20230930T035920Z
UID:4712-1698192000-1698278399@satoshi.net
SUMMARY:池田聡 配信LIVE 2023 池ちゃんのやんちゃなトークVol.11
DESCRIPTION:■ 司会進行 ■\nジミー岩崎\n\n■ メッセージ ■\n『 池ちゃんと再会の喜び！ジミーさんおかえりSpecial！今回も内容濃くお送りします！』\n\n■ 番組概要 ■\n\n池田聡とやんかわ商店&あざますラボチームがタッグを組みスタートしたトーク中心の生配信番組『池ちゃんのやんちゃなトーク』。\n池ちゃんとジミーちゃんのゆるふわトークをご覧ください。LIVE映像も配信予定。\n\n生視聴に間に合わない方はアーカイブ配信にてお楽しみ頂けますのでご安心ください。\n\n早割予約特典もございます‼️\n有効にご利用ください\n\n池田聡：https://satoshi.net\n\n■ 生配信日時 ■\n10月25日(水)\n1部：20:00〜\n2部：21:30〜\n\n※アーカイブ視聴期間：2023年10月31日(火)AM9:00迄\n\n■ 販売期間 ■\n9月30日(土)〜10月30日(月)15時迄\n\n■ 通常価格 ■\n1部、2部：各¥2\,420(税込)\n両部同時購入¥4\,620(税込)\n\n● 更に早割予約5%OFF：〜10月16日(月)AM9:00迄\n\n■ 視聴権購入先URL ■\n購入方法は下記の3つのパターンからお選び頂けます。\n①は決済手数料がお得！\n\n【 10月16日(月)AM9時迄のご購入は割引あり 】\n※ 下記、ご希望のURLをクリックしてお進みください。\n\n① 1部 & 2部（早割）\nhttps://buy.stripe.com/5kAaGGga22Bmb8QcNS\n\n② 1部のみ（早割）\nhttps://buy.stripe.com/7sIg104rkgsc5Ow6ps\n\n③ 2部のみ（早割）\nhttps://buy.stripe.com/bIYaGG9LEcbW1ygaFJ\n\n【 10月16日(月)AM9時以降〜 購入の方 】\n※ 下記、ご希望のURLをクリックしてお進みください。\n\n① 両部\nhttps://buy.stripe.com/bIY4iiaPIgsc7WE29h\n\n② 1部のみ\nhttps://buy.stripe.com/fZecOO1f8gscel2017\n\n③ 2部のみ\nhttps://buy.stripe.com/9AQ8yy1f85Nyfp68xE\n\n■ お問合せ先 ■\ninfo@azamasulab.jp\n※平日9:00−15:00までの対応となります。（土日祝は休み）\n※当日の購入は配信中のため 対応が遅れることがございます。\n当日は9:00−20:30までの対応となります。\n\n■ ご注意事項 ■\n※ 決済完了確認後、申し込み内容確認メールを送らせていただきます。\n※ Mail・URLお知らせ時に下記メールアドレスを受信できるように予めドメイン設定をお願い致します。info@azamasulab.jp\n※インターネット販売のみとなります。\n※ ご購入からご視聴頂けるまでタイムラグがあります為、リアルタイム視聴ご希望の方は当日午前中までのご購入をおススメ致します。
URL:https://satoshi.net/event/%e6%b1%a0%e7%94%b0%e8%81%a1-%e9%85%8d%e4%bf%a1live-2023-%e6%b1%a0%e3%81%a1%e3%82%83%e3%82%93%e3%81%ae%e3%82%84%e3%82%93%e3%81%a1%e3%82%83%e3%81%aa%e3%83%88%e3%83%bc%e3%82%afvol-11/
CATEGORIES:07.ネット配信
END:VEVENT
END:VCALENDAR