BEGIN:VCALENDAR
VERSION:2.0
PRODID:-//池田聡のOFFICIAL SITEへようこそ - ECPv4.4.3//NONSGML v1.0//EN
CALSCALE:GREGORIAN
METHOD:PUBLISH
X-WR-CALNAME:池田聡のOFFICIAL SITEへようこそ
X-ORIGINAL-URL:https://satoshi.net
X-WR-CALDESC:Events for 池田聡のOFFICIAL SITEへようこそ
BEGIN:VEVENT
DTSTART;VALUE=DATE:20220814
DTEND;VALUE=DATE:20220814
DTSTAMP:20260424T154826
CREATED:20220404T173425Z
LAST-MODIFIED:20220724T033248Z
UID:3903-1660435200-1660521599@satoshi.net
SUMMARY:TAMAYURA 汐留《 SOLD OUT 》
DESCRIPTION:【 日程 】2022年8月14日(日)《 SOLD OUT 》\n【 会場 】汐留ブルームード\n（ 〒104-0045 東京都中央区築地5丁目6-10 浜離宮パークサイドプレイス1F ）\nhttps://blue-mood.jp\n【 開場 】15:00\n【 開演 】16:00\n【 ゲストミュージャン 】\n安部潤( p/f ) / 武藤良明( g )\n【 料金 】前売り¥7\,000 / 当日¥7\,500\n（ 税込み・整理番号順入場・自由席・1drink&1food別途要 )\n◆ 前売り完売の時点で当日券はございませんのでご了承下さい。\n【 LIVE内容 】\n玉響(たまゆら)と名付けた本LIVEは、勾玉同士が触れ合ってたてる微かな音のように、ミュージシャンそのものと音を触れ合わせる様子を表現しています。\nミュージシャンを迎えスタンダードナンバーから、時にはカバーソングまでを歌い上げます。\nどうぞお楽しみに！！\n【 ご予約 】4/8( 金 ) 昼12:00〜\n・Mail：ikeda.satoshi.live@gmail.com\n＊件名：814 LIVE\n＊お名前\n＊人数\n＊ご連絡先\n・ご入金先着順に整理番号発行\n・上記、件名含む4点をご明記頂きますよう宜しくお願い致します。\n・お申込み後、1日以上経過しても返信の無い場合は、池田聡HPのコンタクトより\nお問合せください。\n\n【 お問合せ 】\n公演に関するお問合せがある方は、ご予約件名とお間違いのなき様にお願いします。\n『814 問合せ』とご入力頂きお問合せください。※ご予約の際の件名と間違われている方がいらっしゃるのでお気をつけください。\n\n【 ご注意事項 】\n＊急なキャンセルは他お客様のご迷惑になる場合もございますので、公演1週間前までにご連絡頂きますようご協力をお願いいたします。\n＊撮影、録音、録画はご遠慮ください。\n＊フラッシュやシャッター音、雑音等で他のお客様にご迷惑行為があった際は、ご退場頂くか又は公演自体が中止になる場合がございますので、演者参加者で力を合わせてLIVEを作り上げましょう！\n\n【 新型コロナウイルス感染防止に際する注意事項 】\n・出入口での体温測定・消毒\n・ご希望者へのface shield、ゴム手袋提供\n諸々、状況に応じた防疫のガイドラインの遵守、モラルに添った行動をお願い致します。
URL:https://satoshi.net/event/tamayura-%e6%b1%90%e7%95%99/
LOCATION:築地5丁目6-10\, 中央区\, 東京都\, 104-0045
CATEGORIES:01.ライヴ
END:VEVENT
END:VCALENDAR