BEGIN:VCALENDAR
VERSION:2.0
PRODID:-//池田聡のOFFICIAL SITEへようこそ - ECPv4.4.3//NONSGML v1.0//EN
CALSCALE:GREGORIAN
METHOD:PUBLISH
X-WR-CALNAME:池田聡のOFFICIAL SITEへようこそ
X-ORIGINAL-URL:https://satoshi.net
X-WR-CALDESC:Events for 池田聡のOFFICIAL SITEへようこそ
BEGIN:VEVENT
DTSTART;VALUE=DATE:20251123
DTEND;VALUE=DATE:20251123
DTSTAMP:20260419T213548
CREATED:20250820T101511Z
LAST-MODIFIED:20250919T072338Z
UID:5940-1763856000-1763942399@satoshi.net
SUMMARY:TAMAYURA 柏 《 満席（キャンセル待アリ）》
DESCRIPTION:【 日程 】2025年11月23日(日)《 満席（キャンセル待アリ）》\n【 会場 】柏 WUU\n（〒277-0005 千葉県柏市柏1-5-20　プールドゥビル5Ｆ）\nhttp://www.wuu.co.jp\n【 開場 】15:00\n【 開演 】16:00\n【 Special Musician 】真藤敬利(p/f、chor)\n【 料金 】前売り6\,500円 / 当日7\,000円 /\n2日間通し10\,500円\n(税込・全席自由・ドリンク代別途要)\n【 LIVE内容 】\n1日目(ぶらり)は池田聡の代表曲を中心に選曲された、初来場者の方必見のセットリストとなっております！\n今年は華やかな演奏に加え巧みなchorusで確かな存在感の真藤敬利さんをお迎えし豪華に賑やかにお送りします！\n\n【 ご予約開始 】2025/08/20(水)\n・電話予約：受付中\n・メール予約：23:00〜\n※ ご入場整理番号付き\n※ チケット販売無し\n【 ご予約・お問合せ 】\n柏スタジオWUU　04-7164-9651\nhttp://www.wuu.co.jp\n\n【 全会場共通ご注意事項 】\n※未就学児童入場不可\n＊キャンセル要項等は会場ホームページ又はご返信メールを必ずご確認ください。\n＊ ご予約方法など発売前にやむを得ず変更される場合がございますのでご予約直前にHPを更新しご確認ください。\n＊撮影、録音、録画はご遠慮ください。\n＊フラッシュやシャッター音、雑音・騒音等で他のお客様にご不快と判断された時点でご退場頂きますのでご了承ください。\n＊ 受付時に身分証のご提示をお願いする場合がございますのでご了承ください。\n＊ 相互でマナーを守りより良い環境となるようご協力お願いします！
URL:https://satoshi.net/event/tamayura-%e3%80%9c-%e6%9f%8f-2days-%e3%80%9c/
LOCATION:柏1-5-20　プールドゥビル5Ｆ\, 柏市\, 千葉県\, Japan
CATEGORIES:01.ライヴ
END:VEVENT
END:VCALENDAR