BEGIN:VCALENDAR
VERSION:2.0
PRODID:-//池田聡のOFFICIAL SITEへようこそ - ECPv4.4.3//NONSGML v1.0//EN
CALSCALE:GREGORIAN
METHOD:PUBLISH
X-WR-CALNAME:池田聡のOFFICIAL SITEへようこそ
X-ORIGINAL-URL:https://satoshi.net
X-WR-CALDESC:Events for 池田聡のOFFICIAL SITEへようこそ
BEGIN:VEVENT
DTSTART;VALUE=DATE:20231201
DTEND;VALUE=DATE:20231201
DTSTAMP:20260423T135748
CREATED:20231127T034725Z
LAST-MODIFIED:20231127T034725Z
UID:4934-1701388800-1701475199@satoshi.net
SUMMARY:SBC 信越放送 八神純子 MUSIC TOWN コメント出演
DESCRIPTION:八神純子 MUSIC TOWN コメント出演\n\nABS 秋田放送　　　11月27　日(月)　18:20~18:45\nBSN 新潟放送　　　11月28日(火)　22:00~23:00\nMBC 南日本放送　　11月28日(火)　21:15~22:00\nRAB 青森放送　　　11月29日(水)　11:35~11:45\nRNC 西日本放送　　11月29日(水)　18:15~18:45\nSBC 信越放送　　　12月1日(金)　18:30~19:00\nRSK 山陽放送　　　12月2日(土)　16:05~16:30\nCRT 栃木放送　　　12月2日(土)　10:30~11:00\nIBC 岩手放送　　　12月2日(土)　22:00~22:30\n\n放送地域外にお住まいのリスナーは「radiko プレミアム」で全国どこからでも視聴可能ですので ぜひチェックして下さいね\n\nhttp://www.radiko.jp/
URL:https://satoshi.net/event/sbc-%e4%bf%a1%e8%b6%8a%e6%94%be%e9%80%81-%e5%85%ab%e7%a5%9e%e7%b4%94%e5%ad%90-music-town-%e3%82%b3%e3%83%a1%e3%83%b3%e3%83%88%e5%87%ba%e6%bc%94/
CATEGORIES:06.ラジオ
END:VEVENT
END:VCALENDAR