BEGIN:VCALENDAR
VERSION:2.0
PRODID:-//池田聡のOFFICIAL SITEへようこそ - ECPv4.4.3//NONSGML v1.0//EN
CALSCALE:GREGORIAN
METHOD:PUBLISH
X-WR-CALNAME:池田聡のOFFICIAL SITEへようこそ
X-ORIGINAL-URL:https://satoshi.net
X-WR-CALDESC:Events for 池田聡のOFFICIAL SITEへようこそ
BEGIN:VEVENT
DTSTART;VALUE=DATE:20260110
DTEND;VALUE=DATE:20260110
DTSTAMP:20260419T181111
CREATED:20250930T100002Z
LAST-MODIFIED:20250930T094453Z
UID:5998-1768003200-1768089599@satoshi.net
SUMMARY:Official funclub 新年会 アペリティフパーティー2026！！ 〜40周年year 幕開け〜in 東京
DESCRIPTION:池田聡official funclub 新年会\nアペリティフパーティー2026！！\n〜40周年year 幕開け〜\nin 東京\n\n会員の方：イベント詳細はFCアプリ内の投稿のタイムラインをご確認ください\n\n--------------------------------------------------------\n池田聡公式ファンクラブ aperitif club Neo のご入会については こちら のページでご確認ください。（Faniconのページにリンクしています）\nFaniconは、会員制のファンコミュニティです。アプリ内限定のライブ配信、グルチャ、トーク、スクラッチetc. のコンテンツをお楽しみいただけます。\n \n■ よくあるご質問\n下記のページをご確認ください。\nhttps://fanicon.net/support\n \n■ファンクラブに関する全てのお問い合わせ\n下記Faniconまでメールでお願いします。\ninfo@fanicon.net
URL:https://satoshi.net/event/official-funclub-%e6%96%b0%e5%b9%b4%e4%bc%9a-%e3%82%a2%e3%83%9a%e3%83%aa%e3%83%86%e3%82%a3%e3%83%95%e3%83%91%e3%83%bc%e3%83%86%e3%82%a3%e3%83%bc2026%ef%bc%81%ef%bc%81-%e3%80%9c40%e5%91%a8%e5%b9%b4year/
CATEGORIES:10.ファンクラブ会員限定イベント
END:VEVENT
END:VCALENDAR