BEGIN:VCALENDAR
VERSION:2.0
PRODID:-//池田聡のOFFICIAL SITEへようこそ - ECPv4.4.3//NONSGML v1.0//EN
CALSCALE:GREGORIAN
METHOD:PUBLISH
X-WR-CALNAME:池田聡のOFFICIAL SITEへようこそ
X-ORIGINAL-URL:https://satoshi.net
X-WR-CALDESC:Events for 池田聡のOFFICIAL SITEへようこそ
BEGIN:VEVENT
DTSTART;VALUE=DATE:20220821
DTEND;VALUE=DATE:20220821
DTSTAMP:20260424T155501
CREATED:20220603T143228Z
LAST-MODIFIED:20220729T124253Z
UID:3983-1661040000-1661126399@satoshi.net
SUMMARY:MUSIC SQUARE 1624 TENJIN 10th ANNIVERSARY 企画 池田聡 TAMAYURA 高槻2022《 SOLD OUT 》
DESCRIPTION:【 日程 】2022年8月21日(日)《 SOLD OUT 》\n【 会場 】高槻 MUSIC SQUARE 1624 TENJIN (大阪府高槻市天神町1-6-24 天神ビル地下1階)\n【 開場 】14:00\n【 開演 】15:00〜入替無し2部制\n【 演奏 】ジミー岩崎(p/f)\n【 料金 】6\,500円\n（税込み・指定席・2オーダー別途要\n※2ドリンク、又は、1ドリンク+1フードかお選び頂けます。)\n【 受付開始 】2022年6月6日(月)15時〜8月16日(火)20時迄\n【ご予約・お問合せ】\n・ikeda.satoshi.live@gmail.com\n◯ お名前\n◯ 人数\n◯ ご連絡先電話番号\n上記をご明記の上、お申込みください。\n＊ 順次ご返信します。\n＊ 一両日経過しても返信のない場合、受信設定をご確認頂き、(045-550-4689)迄、お問合せください。\n＊ 8/17に厳正なる抽選を行い指定座席が決定します。当日受付にてお座席をご確認ください。\n＊ 完売時点で受付終了となります。\n\n【 ご注意事項 】\n＊ 感染拡大防止策の観点から座席数が減少する場合は予告なく直ちにご予約受付終了となります。\n＊新型コロナウイルスへの注意事項「発熱、マスク着用、消毒」等の状況に応じた防疫のガイドラインの遵守、モラルに添った行動をお願い致します。\n＊キャンセル要項等は返信メールを必ずご確認ください。\n＊撮影、録音、録画はご遠慮ください。\n＊フラッシュやシャッター音、雑音・騒音等で他のお客様にご不快と判断された時点でご退場頂きますので、ご了承ください。\n＊ 相互でマナーを守りより良い環境となるようご協力お願いします！
URL:https://satoshi.net/event/music-square-1624-tenjin-10th-anniversary-%e4%bc%81%e7%94%bb-%e6%b1%a0%e7%94%b0%e8%81%a1-tamayura-%e9%ab%98%e6%a7%bb2022/
LOCATION:天神町1-6-24\, 高槻市\, 大阪府\, 569-1117\, Japan
CATEGORIES:02.ライヴ・イベント
END:VEVENT
END:VCALENDAR