BEGIN:VCALENDAR
VERSION:2.0
PRODID:-//池田聡のOFFICIAL SITEへようこそ - ECPv4.4.3//NONSGML v1.0//EN
CALSCALE:GREGORIAN
METHOD:PUBLISH
X-WR-CALNAME:池田聡のOFFICIAL SITEへようこそ
X-ORIGINAL-URL:https://satoshi.net
X-WR-CALDESC:Events for 池田聡のOFFICIAL SITEへようこそ
BEGIN:VEVENT
DTSTART;VALUE=DATE:20220725
DTEND;VALUE=DATE:20220725
DTSTAMP:20260424T153759
CREATED:20220715T011042Z
LAST-MODIFIED:20220715T011042Z
UID:4067-1658707200-1658793599@satoshi.net
SUMMARY:MUSIC BIRD『 THE NITE 』生出演
DESCRIPTION:メディア出演情報\n【 日程 】2022年7月25日(月)\n【 放送局 】MUSIC BIRD\n【 番組名 】大西貴文の『 THE NITE 』\nhttp://musicbird.jp/cfm/program/#the_nite\n【 放送時間 】毎週月曜〜金曜21時〜24時\n【 出演 】池田聡の生出演は22:30頃から！\n祝35周年オーラスリリースのアルバムから新曲 初ラジオO.A ！！
URL:https://satoshi.net/event/music-bird%e3%80%8e-the-nite-%e3%80%8f%e7%94%9f%e5%87%ba%e6%bc%94/
CATEGORIES:06.ラジオ
END:VEVENT
END:VCALENDAR