BEGIN:VCALENDAR
VERSION:2.0
PRODID:-//池田聡のOFFICIAL SITEへようこそ - ECPv4.4.3//NONSGML v1.0//EN
CALSCALE:GREGORIAN
METHOD:PUBLISH
X-WR-CALNAME:池田聡のOFFICIAL SITEへようこそ
X-ORIGINAL-URL:https://satoshi.net
X-WR-CALDESC:Events for 池田聡のOFFICIAL SITEへようこそ
BEGIN:VEVENT
DTSTART;VALUE=DATE:20220806
DTEND;VALUE=DATE:20220806
DTSTAMP:20260424T190735
CREATED:20220618T130350Z
LAST-MODIFIED:20220729T124105Z
UID:3995-1659744000-1659830399@satoshi.net
SUMMARY:Mr. Kellys 2Days LIVE ぶらりツアー 梅田《 SOUD OUT 》
DESCRIPTION:【日時】2022年8月6日（土）《 SOLD OUT（キャンセル待ち有）》\n【会場】西梅田 Mister Kelly's\n(〒530-0002大阪市北区曾根崎新地2丁目4-1 hotel MYSTAYS PREMIER 1階)\nhttp://www.misterkellys.co.jp/\n【 開場 】17:30\n【 開演 】18:30\n【 料金 】前売り¥5\,000 / 当日¥5\,50\n● 限定席数 ●キャパ制限あり\n(・税込み・全席指定・1D+1F別途要)\n\n【 発売日 】6月27日(月)17:00〜\n【ご予約・お問合せ】\n・Mister Kelly's　06-6342-5821\n・上記ホームページのスケジュールからもご予約頂けます。\n\n【 ご注意事項 】\n＊キャンセルは他のご予約希望のお客様のご迷惑になる場合もございますので、公演1週間前までにお願いいたします。\n＊撮影、録音、録画はご遠慮ください。\n＊フラッシュやシャッター音、雑音等で他のお客様にご迷惑行為があった際はご退場頂くか、公演自体が中止になる場合がございますので、ご了承ください。\n《新型コロナウイルスへの注意事項》\n「発熱、マスク着用、消毒」等の状況に応じた防疫のガイドラインの遵守、モラルに添った行動をお願い致します。
URL:https://satoshi.net/event/mr-kellys-2days-live-%e3%81%b6%e3%82%89%e3%82%8a%e3%83%84%e3%82%a2%e3%83%bc-%e6%a2%85%e7%94%b0/
LOCATION:北区曾根崎新地2丁目4-1\, 大阪市\, 大阪府\, 530-0057\, Japan
CATEGORIES:01.ライヴ
END:VEVENT
END:VCALENDAR