BEGIN:VCALENDAR
VERSION:2.0
PRODID:-//池田聡のOFFICIAL SITEへようこそ - ECPv4.4.3//NONSGML v1.0//EN
CALSCALE:GREGORIAN
METHOD:PUBLISH
X-WR-CALNAME:池田聡のOFFICIAL SITEへようこそ
X-ORIGINAL-URL:https://satoshi.net
X-WR-CALDESC:Events for 池田聡のOFFICIAL SITEへようこそ
BEGIN:VEVENT
DTSTART;VALUE=DATE:20250118
DTEND;VALUE=DATE:20250118
DTSTAMP:20260422T091927
CREATED:20241020T073005Z
LAST-MODIFIED:20241020T143707Z
UID:5464-1737158400-1737244799@satoshi.net
SUMMARY:medium TAMAYURAツアー 四日市
DESCRIPTION:【 日程 】2025年1月18日(土)\n【 会場 】ガリバー（ 〒510-0954 三重県四日市市采女町823-1）\nhttp://www.galliver.gr.jp/\n【 開場 】17:30\n【 開演 】18:00\n【 料金 】前売り5\,000円 / 当日5\,500円(全席自由 / 別途1ドリンク要)\n【 サポートミュージシャン 】近藤浩之(Dr＆perc）\n【 予約開始日時 】\n2024年10月23日(水)am11:00～\n【お問合せ・ご予約】\nガリバー（定休日 : 月・火）\nMail：galliver@cty-net.ne.jp\n＊ご予約の場合\n件名：「池田聡ライブ予約」\n本文：お名前と人数\nをご記入の上、ご送信ください。\n※ 予約開始時間より早い時間のお申し込みは無効となりますのでご注意ください。\n※ ご予約受付順のご入場となります。後ほど入店順をお知らせしますのでお名前・携帯電話番号・チケット枚数の記入を必ずお願いします。\n\n【 ご注意事項 】\n＊急なキャンセルは他のご予約希望のお客様のご迷惑になる場合もございますので、公演1週間前までにお願いいたします。\n＊撮影、録音、録画はご遠慮ください。\n＊フラッシュやシャッター音、雑音等で他のお客様にご迷惑行為があった際はご退場頂く場合がございますので、ご了承ください。
URL:https://satoshi.net/event/medium-tamayura%e3%83%84%e3%82%a2%e3%83%bc-%e5%9b%9b%e6%97%a5%e5%b8%82-2/
LOCATION:采女町823-1\, 四日市市\, 三重県\, 510-0954
CATEGORIES:01.ライヴ
END:VEVENT
END:VCALENDAR