BEGIN:VCALENDAR
VERSION:2.0
PRODID:-//池田聡のOFFICIAL SITEへようこそ - ECPv4.4.3//NONSGML v1.0//EN
CALSCALE:GREGORIAN
METHOD:PUBLISH
X-WR-CALNAME:池田聡のOFFICIAL SITEへようこそ
X-ORIGINAL-URL:https://satoshi.net
X-WR-CALDESC:Events for 池田聡のOFFICIAL SITEへようこそ
BEGIN:VEVENT
DTSTART;VALUE=DATE:20220811
DTEND;VALUE=DATE:20220811
DTSTAMP:20260424T141109
CREATED:20220805T145121Z
LAST-MODIFIED:20220805T145121Z
UID:4102-1660176000-1660262399@satoshi.net
SUMMARY:MBSラジオ 「Mラジ Music Treasures」
DESCRIPTION:【 日程 】2022年8月11日(木)\n【 放送局 】MBSラジオ\n【 番組名 】「Mラジ Music Treasures」\n【 番組HP 】mbs1179.com/mt/list/\n【 放送時間 】毎週火曜〜金曜(深夜2:30〜5:15、2:00〜4:40)\n【 出演 】池田聡・中西圭三\n※ 2時間45分の長尺番組！(野球延長の場合この限りではありません)\n※ radikoでも聴取可能(京都・滋賀・大阪エリアは無料それ以外はradikoプレミアム会員登録必須)
URL:https://satoshi.net/event/mbs%e3%83%a9%e3%82%b8%e3%82%aa-%e3%80%8cm%e3%83%a9%e3%82%b8-music-treasures%e3%80%8d/
CATEGORIES:06.ラジオ
END:VEVENT
END:VCALENDAR