BEGIN:VCALENDAR
VERSION:2.0
PRODID:-//池田聡のOFFICIAL SITEへようこそ - ECPv4.4.3//NONSGML v1.0//EN
CALSCALE:GREGORIAN
METHOD:PUBLISH
X-WR-CALNAME:池田聡のOFFICIAL SITEへようこそ
X-ORIGINAL-URL:https://satoshi.net
X-WR-CALDESC:Events for 池田聡のOFFICIAL SITEへようこそ
BEGIN:VEVENT
DTSTART;VALUE=DATE:20221105
DTEND;VALUE=DATE:20221105
DTSTAMP:20260424T112008
CREATED:20221101T103154Z
LAST-MODIFIED:20221101T103154Z
UID:4284-1667606400-1667692799@satoshi.net
SUMMARY:KBS京都 サタデーチューンナップKYOTO ゲスト出演
DESCRIPTION:【 日程 】 11月5日(土)\n【 放送局 】KBS京都ラジオ\n【 番組名 】對馬京子サタデーチューンナップKYOTO http://radiko.jp/share/sid=KBS&t=20221029073000\n【 放送時間 】7:30〜8:00\n【 メッセージ 】 tune@kbs.kyoto\n※ radiko聴取可能(京都・滋賀・大阪エリアは無料それ以外はradikoプレミアム会員登録必須)
URL:https://satoshi.net/event/kbs%e4%ba%ac%e9%83%bd-%e3%82%b5%e3%82%bf%e3%83%87%e3%83%bc%e3%83%81%e3%83%a5%e3%83%bc%e3%83%b3%e3%83%8a%e3%83%83%e3%83%97kyoto-%e3%82%b2%e3%82%b9%e3%83%88%e5%87%ba%e6%bc%94/
CATEGORIES:06.ラジオ
END:VEVENT
END:VCALENDAR