BEGIN:VCALENDAR
VERSION:2.0
PRODID:-//池田聡のOFFICIAL SITEへようこそ - ECPv4.4.3//NONSGML v1.0//EN
CALSCALE:GREGORIAN
METHOD:PUBLISH
X-WR-CALNAME:池田聡のOFFICIAL SITEへようこそ
X-ORIGINAL-URL:https://satoshi.net
X-WR-CALDESC:Events for 池田聡のOFFICIAL SITEへようこそ
BEGIN:VEVENT
DTSTART;VALUE=DATE:20220803
DTEND;VALUE=DATE:20220803
DTSTAMP:20260424T141043
CREATED:20220728T114452Z
LAST-MODIFIED:20220728T114452Z
UID:4095-1659484800-1659571199@satoshi.net
SUMMARY:KBS京都ラジオ ゲスト出演
DESCRIPTION:【 日程 】2022年8月3日(水)\n【 放送局 】KBS京都ラジオ\n【 番組名 】まーぶる！『チキチキ遠藤Nami乗りジョニー』\n【 番組HP 】https://www.kbs-kyoto.co.jp/radio/jo/\n【 放送時間 】毎週水曜10:00〜14:00\n【 パーソナリティ 】チキチキジョニー\n【 出演 】池田聡の生出演は13:15頃から！\n※ 生放送の為、時間はこの限りではありません。\n※ radikoでも聴取可能(京都・滋賀・大阪エリアは無料それ以外はradikoプレミアム会員登録必須)
URL:https://satoshi.net/event/kbs%e4%ba%ac%e9%83%bd%e3%83%a9%e3%82%b8%e3%82%aa-%e3%82%b2%e3%82%b9%e3%83%88%e5%87%ba%e6%bc%94-3/
CATEGORIES:06.ラジオ
END:VEVENT
END:VCALENDAR