BEGIN:VCALENDAR
VERSION:2.0
PRODID:-//池田聡のOFFICIAL SITEへようこそ - ECPv4.4.3//NONSGML v1.0//EN
CALSCALE:GREGORIAN
METHOD:PUBLISH
X-WR-CALNAME:池田聡のOFFICIAL SITEへようこそ
X-ORIGINAL-URL:https://satoshi.net
X-WR-CALDESC:Events for 池田聡のOFFICIAL SITEへようこそ
BEGIN:VEVENT
DTSTART;VALUE=DATE:20251006
DTEND;VALUE=DATE:20251006
DTSTAMP:20260419T200031
CREATED:20251007T030434Z
LAST-MODIFIED:20251007T030434Z
UID:6002-1759708800-1759795199@satoshi.net
SUMMARY:K-MIX「月曜アドナインス」ゲスト出演
DESCRIPTION:番組名：K-MIX「月曜アドナインス」\nhttps://k-mix.co.jp/program-add9\n\n日時：2025年10月6日(月) 21:30〜22:00\n(毎週月曜日21:30〜22:00放送)\nパーソナリティ：あきいちこ\nradiko：https://radiko.jp/share/?t=20251006213000&sid=K-MIX\n※radikoでタイムフリーで聴取可能です\n\n「add9」というコードは和音に一音（9番目の音）を加えることで豊かで広がりのある響きになる。\nちょっぴり憂鬱かもしれない月曜日に素敵な音楽を一つ加えて豊かな気持ちで過ごしてもらいたいという願いを込めて。\nラジオ番組経験豊富な「あきいちこ」がメジャーからインディーズまで幅広い音楽をお届けする番組です。\n\nメッセージフォーム：https://k-mix.co.jp/message-add9
URL:https://satoshi.net/event/k-mix%e3%80%8c%e6%9c%88%e6%9b%9c%e3%82%a2%e3%83%89%e3%83%8a%e3%82%a4%e3%83%b3%e3%82%b9%e3%80%8d%e3%82%b2%e3%82%b9%e3%83%88%e5%87%ba%e6%bc%94/
CATEGORIES:06.ラジオ
END:VEVENT
END:VCALENDAR