BEGIN:VCALENDAR
VERSION:2.0
PRODID:-//池田聡のOFFICIAL SITEへようこそ - ECPv4.4.3//NONSGML v1.0//EN
CALSCALE:GREGORIAN
METHOD:PUBLISH
X-WR-CALNAME:池田聡のOFFICIAL SITEへようこそ
X-ORIGINAL-URL:https://satoshi.net
X-WR-CALDESC:Events for 池田聡のOFFICIAL SITEへようこそ
BEGIN:VEVENT
DTSTART;VALUE=DATE:20251203
DTEND;VALUE=DATE:20251203
DTSTAMP:20260419T195421
CREATED:20251116T152829Z
LAST-MODIFIED:20251116T152829Z
UID:6031-1764720000-1764806399@satoshi.net
SUMMARY:FM PiPi『 keiZiroのぬばたまZ ぷち 』電話生出演
DESCRIPTION:池田聡メディア出演情報\nFM PiPi『 keiZiroのぬばたまZ ぷち 』\n【 日程 】2025年12月3日(水)\n【 時間 】20:00 〜 O.A\n\n【 パーソナリティ 】keiZiro\n\n【 聴取方法 】全国で聴取可能です。\nインターネットサイマルラヂオ\nhttps://www.jcbasimul.com/radio/810/\n\nスマホアプリ《TuneIn Radio》\nhttp://tun.in/selbh\n\n【 メッセージ、リクエスト、ラヴレター 】\n番組HP：http://www.fmpipi.co.jp/
URL:https://satoshi.net/event/fm-pipi%e3%80%8e-keiziro%e3%81%ae%e3%81%ac%e3%81%b0%e3%81%9f%e3%81%bez-%e3%81%b7%e3%81%a1-%e3%80%8f%e9%9b%bb%e8%a9%b1%e7%94%9f%e5%87%ba%e6%bc%94/
CATEGORIES:06.ラジオ
END:VEVENT
END:VCALENDAR