BEGIN:VCALENDAR
VERSION:2.0
PRODID:-//池田聡のOFFICIAL SITEへようこそ - ECPv4.4.3//NONSGML v1.0//EN
CALSCALE:GREGORIAN
METHOD:PUBLISH
X-WR-CALNAME:池田聡のOFFICIAL SITEへようこそ
X-ORIGINAL-URL:https://satoshi.net
X-WR-CALDESC:Events for 池田聡のOFFICIAL SITEへようこそ
BEGIN:VEVENT
DTSTART;VALUE=DATE:20220915
DTEND;VALUE=DATE:20220915
DTSTAMP:20260424T124753
CREATED:20220910T151051Z
LAST-MODIFIED:20220910T151051Z
UID:4172-1663200000-1663286399@satoshi.net
SUMMARY:FM福岡「Ultra Radio Connection~ DIG !!!!!!!!! FUKUOKA」ゲスト出演
DESCRIPTION:【 日程 】2022年9月15日(木)\n【 放送局 】FM福岡\n【 番組名 】Ultra Radio Connection~ DIG !!!!!!!!! FUKUOKA\nhttps://fmfukuoka.co.jp/program/dig/\n【 放送時間 】毎週月曜〜木曜AM12:00〜15:00\n【 パーソナリティ 】DJトギー\n【 出演 】池田聡の出演は13:00〜
URL:https://satoshi.net/event/fm%e7%a6%8f%e5%b2%a1%e3%80%8cultra-radio-connection-dig-fukuoka%e3%80%8d%e3%82%b2%e3%82%b9%e3%83%88%e5%87%ba%e6%bc%94/
CATEGORIES:06.ラジオ
END:VEVENT
END:VCALENDAR