BEGIN:VCALENDAR
VERSION:2.0
PRODID:-//池田聡のOFFICIAL SITEへようこそ - ECPv4.4.3//NONSGML v1.0//EN
CALSCALE:GREGORIAN
METHOD:PUBLISH
X-WR-CALNAME:池田聡のOFFICIAL SITEへようこそ
X-ORIGINAL-URL:https://satoshi.net
X-WR-CALDESC:Events for 池田聡のOFFICIAL SITEへようこそ
BEGIN:VEVENT
DTSTART;VALUE=DATE:20240824
DTEND;VALUE=DATE:20240824
DTSTAMP:20260422T185538
CREATED:20240601T060030Z
LAST-MODIFIED:20240613T051227Z
UID:5257-1724457600-1724543999@satoshi.net
SUMMARY:TAMAYURA 柏 2024 《 完売（キャンセル待ち要確認）》
DESCRIPTION:【 日程 】2024年8月24日(土)《 完売（キャンセル待ち要確認）》\n【 会場 】Studio WUU\n（〒277-0005 千葉県柏市柏1-5-20 プールドゥビル5Ｆ）\nhttp://www.wuu.co.jp\n【 開場 】13:00\n【 開演 】14:00\n【 演奏 】安部潤(P/f)\n【 料金 】前売り6\,000円 / 当日6\,500円 )(税込・全席自由・ドリンク代別途要)\n【 LIVE内容 】\n玉響(たまゆら)と名付けた本LIVEは、勾玉同士が触れ合ってたてる微かな音のように、ミュージシャンそのものと触れ合う事を表現。\nゲストミュージシャンを迎え、スタンダードナンバーから、時にはカバーソングまでを歌い上げます。\n\n【 ご予約開始 】2024/6/2(日)\n・電話予約：19:00〜\n・メール予約(HPより)：23:00〜\n※ ご入場整理番号付き\n※ チケット無し\n【 ご予約・お問合せ 】\n柏スタジオWUU\n℡：04-7164-9651\nhttp://www.wuu.co.jp\n\n【 ご注意事項 】\n＊キャンセルのご連絡は1週間前迄にお願い致します。 (それ以降はキャンセル料を頂戴致します)\n＊撮影、録音、録画はご遠慮ください。\n＊フラッシュやシャッター音、雑音等で他のお客様にご迷惑行為があった際はご退場頂くか、公演自体中止になる場合がございますので、ご了承ください。
URL:https://satoshi.net/event/5257/
LOCATION:柏1-5-20　プールドゥビル5Ｆ\, 柏市\, 千葉県\, Japan
CATEGORIES:01.ライヴ
END:VEVENT
END:VCALENDAR