BEGIN:VCALENDAR
VERSION:2.0
PRODID:-//池田聡のOFFICIAL SITEへようこそ - ECPv4.4.3//NONSGML v1.0//EN
CALSCALE:GREGORIAN
METHOD:PUBLISH
X-WR-CALNAME:池田聡のOFFICIAL SITEへようこそ
X-ORIGINAL-URL:https://satoshi.net
X-WR-CALDESC:Events for 池田聡のOFFICIAL SITEへようこそ
BEGIN:VEVENT
DTSTART;VALUE=DATE:20260612
DTEND;VALUE=DATE:20260612
DTSTAMP:20260422T111912
CREATED:20260307T120006Z
LAST-MODIFIED:20260404T025909Z
UID:6219-1781222400-1781308799@satoshi.net
SUMMARY:池田聡LIVE 2026 仙台3本勝負！ 〜1日目オールリクエスト〜《 完売 》
DESCRIPTION:【 日程 】2026年6月12日(金)《 完売 》\n【 会場 】海風 (〒980-0803 宮城県仙台市青葉区国分町2丁目2-22 ＥＸプラザビル Ｂ1Ｆ)\nhttps://sendai-umikaze.hatenablog.com\n【 開場 】19:00\n【 開演 】19:30\n【 料金 】前売り5\,000円 / 当日5\,500 / 3日間通し券14\,000円\n（税込、全席自由、別途1ﾄﾞﾘﾝｸ500円）\n【 情報解禁日 】概要決定次第\n【 ご予約開始 】2026年3月14日(土祝)AM10時〜\n【 ご予約・お問い合わせ 】\n注)ご予約・お問い合わせはMailのみとさせて頂きます。\nMail：shingohiromi52@gmail.com\n・ご予約は2名様まで\n・事前入金\n・ご予約(お振込み)完了後、整理番号発行、当日の入場は整理番号順になります\n【 LIVE内容 】\n「オールリクエストライヴ」は、その名の通り全曲リクエストされた楽曲だけで構成されるライヴです。\n100曲を超えるリストの中からお客様一人につき1曲リクエスト用紙に記入していただきリクエストボックスに投函していただきます。池田聡がボックスより1曲ずつ引き当てたリクエスト曲をぶっつけ本番で歌います！\n\n【 全会場共通ご注意事項 】\n＊キャンセル要項等は会場ホームページ又はご返信メールを必ずご確認ください。\n＊撮影、録音、録画はご遠慮ください。\n＊フラッシュやシャッター音、雑音・騒音等で他のお客様にご不快と判断された時点でご退場頂きますのでご了承ください。\n＊ 受付時に身分証のご提示をお願いする場合がございますのでご了承ください。\n＊ 相互でマナーを守りより良い環境となるようご協力お願いします！
URL:https://satoshi.net/event/%e6%b1%a0%e7%94%b0%e8%81%a1live-2026-%e4%bb%99%e5%8f%b03%e6%9c%ac%e5%8b%9d%e8%b2%a0%ef%bc%81-%e3%80%9c1%e6%97%a5%e7%9b%ae%e3%82%aa%e3%83%bc%e3%83%ab%e3%83%aa%e3%82%af%e3%82%a8%e3%82%b9%e3%83%88/
LOCATION:青葉区国分町2丁目2-22\, 仙台市\, 宮城県\, Japan
CATEGORIES:01.ライヴ
END:VEVENT
END:VCALENDAR