BEGIN:VCALENDAR
VERSION:2.0
PRODID:-//池田聡のOFFICIAL SITEへようこそ - ECPv4.4.3//NONSGML v1.0//EN
CALSCALE:GREGORIAN
METHOD:PUBLISH
X-WR-CALNAME:池田聡のOFFICIAL SITEへようこそ
X-ORIGINAL-URL:https://satoshi.net
X-WR-CALDESC:Events for 池田聡のOFFICIAL SITEへようこそ
BEGIN:VEVENT
DTSTART;VALUE=DATE:20230108
DTEND;VALUE=DATE:20230108
DTSTAMP:20260424T144448
CREATED:20221228T234000Z
LAST-MODIFIED:20221228T234000Z
UID:4347-1673136000-1673222399@satoshi.net
SUMMARY:池田聡 official funclub 新年会 アペリティフパーティー2023！！（大阪）
DESCRIPTION:【 日程 】2023年1月8日(日)\n【 開場 】15:00\n【 開演 】16:00\n【 ゲストミュージシャン 】ジミー岩崎(p/f)\n【 司会 】秋人\n※ Fan Club 会員限定クローズドイベント
URL:https://satoshi.net/event/%e6%b1%a0%e7%94%b0%e8%81%a1-official-funclub-%e6%96%b0%e5%b9%b4%e4%bc%9a-%e3%82%a2%e3%83%9a%e3%83%aa%e3%83%86%e3%82%a3%e3%83%95%e3%83%91%e3%83%bc%e3%83%86%e3%82%a3%e3%83%bc2023%ef%bc%81%ef%bc%81-2/
CATEGORIES:10.ファンクラブ会員限定イベント
END:VEVENT
END:VCALENDAR