BEGIN:VCALENDAR
VERSION:2.0
PRODID:-//池田聡のOFFICIAL SITEへようこそ - ECPv4.4.3//NONSGML v1.0//EN
CALSCALE:GREGORIAN
METHOD:PUBLISH
X-WR-CALNAME:池田聡のOFFICIAL SITEへようこそ
X-ORIGINAL-URL:https://satoshi.net
X-WR-CALDESC:Events for 池田聡のOFFICIAL SITEへようこそ
BEGIN:VEVENT
DTSTART;VALUE=DATE:20241010
DTEND;VALUE=DATE:20241010
DTSTAMP:20260422T172311
CREATED:20240615T030008Z
LAST-MODIFIED:20240830T130217Z
UID:5270-1728518400-1728604799@satoshi.net
SUMMARY:池田聡 and Ｋ Special コラボ LIVE 〜至高の歌声をあなたに… （残りA席のみ）
DESCRIPTION:池田聡 and Ｋ Special コラボ LIVE 〜至高の歌声をあなたに… 追加公演\n\n【 日程 】2024年10月10日(木)\n【 会場 】浜離宮朝日ホール\n( 〒104-8011東京都中央区築地5丁目3-2 朝日新聞東京本社 新館2階 )\n【 開場 】18:00\n【 開演 】19:00\n【 料金 】 SS席¥10\,000(完売) / S席¥9\,500(完売) / A席8\,500 ※ 全席消費税込\n\n【 FC先行販売 】\n期間：6月22日(土)10:00〜6月29日(土)20:00迄\n会員の方は各アーティスト公式FCページをご確認ください。\n※ FC会員登録はこちらから\nhttps://fanicon.net/fancommunities/3799\n\n【 一般先行販売 】\n下記、各プレイガイドにて\n7月13日(土)10:00〜7月16日(火)18:00迄\n※ 先着順 (期間内であっても予定枚数終了時点で受付終了)\n※ S席(完売) / A席\n\n【 一般発売日 】\n下記、各プレイガイドにて\n7月20日(土)10:00〜\n※ 先着順\n※ S席(完売) / A席\n\n【 プレイガイド 】\n◇イープラス\nhttps://eplus.jp/shikouta/\n（パソコン／スマートフォン共通）\n※ファミリーマート店内Famiポート、セブンイレブン(発券のみ)\n\n◇ローソンチケット [Lコード：73135 ]\nhttps://l-tike.com/ikedaandk/\n（パソコン・携帯共通)\n※ローソン・ミニストップ店内Loppi直接購入\n\n【 メッセージ 】\nこんなジョイントあり？！\n春に関西と下関でのみで開催されたあのジョイントツアーが、話題と反響を呼び追加公演で東京初上陸決定！\nアーティスト2名がほぼ出突っ張りで互いの曲をサポートし合う、3声の分厚いハーモニーは心が震える正に至高の歌声！！(#シコウタ)\n\n【 ご注意事項 】\n＊配信予定はございません。\n＊会場内で許可のない撮影、録音、録画はご遠慮ください。\n＊フラッシュやシャッター音、騒音等で他のお客様にご迷惑行為があった際はご退場頂くか又は公演自体が中止になる場合がございます。ご協力並びにご理解のほどよろしくお願い致します。\n\n【 主催 】\nStudio Soft Clip\n【 協力 】\n汐留ブルームード / trattorìa ROSSO\n【 企画/ 制作 】\nStudio Soft Clip / TBSグロウディア\n【 お問合せ 】\nTBSグロウディア\nMail：gd_event@gr.tbsglowdia.co.jp
URL:https://satoshi.net/event/%e6%b1%a0%e7%94%b0%e8%81%a1-and-%ef%bd%8b-special-%e3%82%b3%e3%83%a9%e3%83%9c-live-%e3%80%9c%e8%87%b3%e9%ab%98%e3%81%ae%e6%ad%8c%e5%a3%b0%e3%82%92%e3%81%82%e3%81%aa%e3%81%9f%e3%81%ab/
LOCATION:築地5丁目3-2\, 中央区\, 東京都\, 〒104-8011\, Japan
CATEGORIES:02.ライヴ・イベント
END:VEVENT
END:VCALENDAR