BEGIN:VCALENDAR
VERSION:2.0
PRODID:-//池田聡のOFFICIAL SITEへようこそ - ECPv4.4.3//NONSGML v1.0//EN
CALSCALE:GREGORIAN
METHOD:PUBLISH
X-WR-CALNAME:池田聡のOFFICIAL SITEへようこそ
X-ORIGINAL-URL:https://satoshi.net
X-WR-CALDESC:Events for 池田聡のOFFICIAL SITEへようこそ
BEGIN:VEVENT
DTSTART;VALUE=DATE:20241002
DTEND;VALUE=DATE:20241002
DTSTAMP:20260422T104815
CREATED:20240918T065111Z
LAST-MODIFIED:20240920T083405Z
UID:5447-1727827200-1727913599@satoshi.net
SUMMARY:池田聡 配信LIVE 2024 池ちゃんのやんちゃなトークVol.15
DESCRIPTION:池田聡 配信LIVE 2024\n池ちゃんのやんちゃなトークVol.15\n\n■ 司会進行 ■\nジミー岩崎\n\n■ 番組概要 ■\n池田聡とやんかわ商店&あざますラボチームがタッグを組み2021年末カウントダウン番組からスタートしたレア企画。\nトーク中心の生配信番組『池ちゃんのやんちゃなトーク』。\n池田聡のLIVEでは見られない姿をお楽しみに！貴重なLIVE映像あり！！\n\n生視聴に間に合わない方は見逃し配信(アーカイブ)にてお楽しみ頂けます！\n\n今月も早割予約特典継続‼️\n9月25日(水)AM9:00迄は割引あり👀\n有効にご利用ください!\n\n■ 生配信日時 ■\n2024年10月2日(水)\n1部：20:00〜\n2部：21:30〜\n\n※アーカイブ視聴期間：生配信終了〜2024年10月11日(金)AM9:00迄\n\n■ 販売期間 ■\n2024年9月18日(水)〜10月10日(木)PM15:00迄\n\n■ 通常価格 ■\n1部、2部：各¥2\,420(税込)\n両部同時購入¥4\,620(税込)\n\n● 更に早割予約5%OFF：〜9月25日(水)AM9:00迄\n\n■ 視聴権購入先URL ■\n購入方法は下記の3つのパターンからお選び頂けます。\n①は決済手数料がお得！\n\n【9月25日(水)AM9:00迄のご購入は割引あり 】\n※ 下記、ご希望のURLをクリックしてお進みください。\n\n① 1部 & 2部（早割）\n\nhttps://buy.stripe.com/28oaGG8HAgsca4M9C8\n\n② 1部のみ（早割）\n\nhttps://buy.stripe.com/7sI166bTM8ZKel201C\n\n③ 2部のみ（早割）\n\nhttps://buy.stripe.com/fZe2aa6zsfo80uc29F\n\n【 9月25日(水)AM9:00以降〜 購入の方 】\n※ 下記、ご希望のURLをクリックしてお進みください。\n\n① 両部\n\nhttps://buy.stripe.com/00gdSS1f8fo82Ck7u3\n\n② 1部のみ\n\nhttps://buy.stripe.com/6oEcOO7Dwdg0dgYeWt\n\n③ 2部のみ\n\nhttps://buy.stripe.com/7sI4iie1U7VG0uceWu\n\n■ お問合せ先 ■\ninfo@azamasulab.jp\n※平日9:00−15:00までの対応となります。（土日祝は休み）\n※当日のご購入は配信中のため 対応が遅れることがございます。\n当日は9:00−20:30までの対応となります。\n■ ご注意事項 ■\n※ 決済完了確認後、申し込み内容確認メールを送らせていただきます。\n※ Mail・URLお知らせ時に下記メールアドレスを受信できるように予めドメイン設定をお願い致します。info@azamasulab.jp\n※インターネット販売のみとなります。\n※ ご購入からご視聴頂けるまでタイムラグがあります為、リアルタイム視聴ご希望の方は当日午前中までのご購入をおススメ致します。
URL:https://satoshi.net/event/%e6%b1%a0%e7%94%b0%e8%81%a1-%e9%85%8d%e4%bf%a1live-2024-%e6%b1%a0%e3%81%a1%e3%82%83%e3%82%93%e3%81%ae%e3%82%84%e3%82%93%e3%81%a1%e3%82%83%e3%81%aa%e3%83%88%e3%83%bc%e3%82%afvol-15/
CATEGORIES:07.ネット配信
END:VEVENT
END:VCALENDAR