BEGIN:VCALENDAR
VERSION:2.0
PRODID:-//池田聡のOFFICIAL SITEへようこそ - ECPv4.4.3//NONSGML v1.0//EN
CALSCALE:GREGORIAN
METHOD:PUBLISH
X-WR-CALNAME:池田聡のOFFICIAL SITEへようこそ
X-ORIGINAL-URL:https://satoshi.net
X-WR-CALDESC:Events for 池田聡のOFFICIAL SITEへようこそ
BEGIN:VEVENT
DTSTART;VALUE=DATE:20230124
DTEND;VALUE=DATE:20230124
DTSTAMP:20260424T163108
CREATED:20230111T075428Z
LAST-MODIFIED:20230111T085229Z
UID:4352-1674518400-1674604799@satoshi.net
SUMMARY:池田聡 配信LIVE 2023 池ちゃんのやんちゃなトークVol.1
DESCRIPTION:池田聡 配信LIVE 2023\n池ちゃんのやんちゃなトークVol.1\n\n■ 司会進行 ■\nジミー岩崎\n\n■ メッセージ ■\n\n池田聡が贈るトーク中心の生配信番組。\n一昨年末年始に制作のやんかわ商店&あざますラボチームとタッグを組みスタート！\n『池ちゃんのやんちゃなトーク』昨年2022年は配信6回、年末には、旧知の中西圭三さんをゲストに迎え大いに盛り上がった神回となりました！\n今年2023年も反響にお応えし、池ちゃんのゆるふわトークをご覧ください。LIVE映像あり！\n生配信に間に合わない方は今年はアーカイブ期間を長めに設定しましたので、お休みの昼下がりにゆっくりご視聴ください。\n\n今年も早割予約特典を継続‼️\n是非ご利用ください。\n\n池田聡：https://satoshi.net\n\n■ 生配信日時 ■\n1月24日(火)\n1部：20:00〜\n2部：21:30〜\n※アーカイブ視聴期間：2023年1月31日(火)9:00迄\n\n■ 販売期間 ■\n1月11日〜1月30日(月)18時迄\n\n■ 通常価格 ■\n1部、2部：各¥2\,420(税込)\n両部同時購入¥4\,620(税込)\n\n● 更に早割予約5%OFF：1月20日(金)9時迄\n\n■ 視聴権購入先 ■\n購入方法は下記の3つのパターンからお選び頂けます。\n\n①は決済手数料がお得！\n\n【 1月20日(金)９時迄のご購入は割引あり 】\n\n① 両部（早割）\nhttps://buy.stripe.com/9AQ2aa6zs1xi90IaFi\n\n② 1部のみ（早割）\nhttps://buy.stripe.com/5kAg10bTM8ZK4KsdRs\n\n③ 2部のみ（早割）\nhttps://buy.stripe.com/6oE7uue1Uek44Ks14H\n\n【 1月20日(金)９時以降〜 購入の方 】\n\n① 両部\nhttps://buy.stripe.com/9AQ7uu2jc5Ny4Ks14L\n\n② 1部のみ\nhttps://buy.stripe.com/fZe3ee4rkfo84Ks6p3\n\n③ 2部のみ\nhttps://buy.stripe.com/4gweWW4rkgscb8QbJo\n\n■ お問合せ先 ■\ninfo@azamasulab.jp\n※平日９:00−15:00までの対応となります。（土日祝は休み）\n\n■ ご注意事項 ■\n※ 決済完了確認後、申し込み内容確認メールを送らせていただきます。\n※ Mail・URLお知らせ時に下記メールアドレスを受信できるように予めドメイン設定をお願い致します。info@azamasulab.jp\n※インターネット販売のみとなります。\n※ ご購入からご視聴頂けるまでタイムラグがあります為、リアルタイム視聴ご希望の方は当日午前中までのご購入をおススメ致します。\n\n池ちゃんねるフライヤー-2023.01
URL:https://satoshi.net/event/%e6%b1%a0%e7%94%b0%e8%81%a1-%e9%85%8d%e4%bf%a1live-2023-%e6%b1%a0%e3%81%a1%e3%82%83%e3%82%93%e3%81%ae%e3%82%84%e3%82%93%e3%81%a1%e3%82%83%e3%81%aa%e3%83%88%e3%83%bc%e3%82%afvol-1/
CATEGORIES:07.ネット配信
END:VEVENT
END:VCALENDAR