BEGIN:VCALENDAR
VERSION:2.0
PRODID:-//池田聡のOFFICIAL SITEへようこそ - ECPv4.4.3//NONSGML v1.0//EN
CALSCALE:GREGORIAN
METHOD:PUBLISH
X-WR-CALNAME:池田聡のOFFICIAL SITEへようこそ
X-ORIGINAL-URL:https://satoshi.net
X-WR-CALDESC:Events for 池田聡のOFFICIAL SITEへようこそ
BEGIN:VEVENT
DTSTART;VALUE=DATE:20220824
DTEND;VALUE=DATE:20220824
DTSTAMP:20260424T184729
CREATED:20220722T100701Z
LAST-MODIFIED:20220722T100701Z
UID:4070-1661299200-1661385599@satoshi.net
SUMMARY:池田聡 配信LIVE 2022 池ちゃんのやんちゃなトークVol.3
DESCRIPTION:池田聡 配信LIVE 2022\n池ちゃんのやんちゃなトークVol.3\n\n■ Guest MC ■\nジミー岩崎\n\n■ メッセージ ■\n池田聡が不定期に贈る生配信LIVE 。\n\n昨年末年始に制作のやんかわ商店チームとタッグを組みお届けした『池ちゃんのやんちゃなトーク 』反響にお応えし月一配信番組となって帰って参りました！\n生配信場所は、池田聡マイルーム！\nまだまだ知らない池田聡をお魅せします。\n\n平日で生配信に間に合わない方の為にアーカイブ期間を設けておりますので、休日の昼下がりにゆっくりご視聴ください。\n\n今回からアーカイブ期間もご購入可能になりました！\n\n■ 生配信日時 ■\n8月24日(水)\n1部：20:00〜\n2部：21:30〜\n※アーカイブ視聴期間：2022年8月28日(日)23:59迄\n\n■ 販売期間 ■\n※発売開始日\n2022年7月22日(木) AM15:00〜 8月28日(日)18:00迄\n\n■ 視聴権購入先 ■\n購入方法は下記の3つのパターンからお選び頂けます。\n① は決済手数料がお得！\n\n① 1部2部 両方\nhttps://buy.stripe.com/cN2cOO7Dwgscgta14i\n\n② 1部のみ\nhttps://buy.stripe.com/cN20221f8dg0fp6fZe\n\n③ 2部のみ\nhttps://buy.stripe.com/00g2aaaPIa3O90IaET\n\n■ お問合せ先 ■\ninfo@azamasulab.jp\n\n■ 注意事項 ■\n※ 決済完了確認後、順次URLをお知らせ致します。\n※ URLお知らせ時に下記メールアドレスを受信できるように予めドメイン設定をお願い致します。info@azamasulab.jp\n※インターネット販売のみとなります。
URL:https://satoshi.net/event/%e6%b1%a0%e7%94%b0%e8%81%a1-%e9%85%8d%e4%bf%a1live-2022-%e6%b1%a0%e3%81%a1%e3%82%83%e3%82%93%e3%81%ae%e3%82%84%e3%82%93%e3%81%a1%e3%82%83%e3%81%aa%e3%83%88%e3%83%bc%e3%82%afvol-3/
CATEGORIES:07.ネット配信
END:VEVENT
END:VCALENDAR