BEGIN:VCALENDAR
VERSION:2.0
PRODID:-//池田聡のOFFICIAL SITEへようこそ - ECPv4.4.3//NONSGML v1.0//EN
CALSCALE:GREGORIAN
METHOD:PUBLISH
X-WR-CALNAME:池田聡のOFFICIAL SITEへようこそ
X-ORIGINAL-URL:https://satoshi.net
X-WR-CALDESC:Events for 池田聡のOFFICIAL SITEへようこそ
BEGIN:VEVENT
DTSTART;VALUE=DATE:20220525
DTEND;VALUE=DATE:20220525
DTSTAMP:20260424T191634
CREATED:20220516T130833Z
LAST-MODIFIED:20220517T000024Z
UID:3972-1653436800-1653523199@satoshi.net
SUMMARY:池田聡 配信LIVE 2022 池ちゃんのやんちゃなトークVol.2
DESCRIPTION:池田聡 配信LIVE 2022\n池ちゃんのやんちゃなトークVol.2\n\n■ Guest MC ■\nジミー岩崎\n\n■ メッセージ ■\n池田聡が不定期に贈る生配信LIVE 。\n\n○ 昨年末年始に制作のやんかわ商店チームとタッグを組みお届けした『池ちゃんのやんちゃなトーク 』反響にお応えし月一配信番組となって帰って参りました！\n今回は、先のG.Wをテーマに掲げたっぷり語り尽くします！\n生配信場所は、池田聡マイルーム！\nまだまだ知らない池田聡をお魅せします。\n\n平日で生配信に間に合わない方の為にアーカイブ視聴期間があります。お休みの昼下がりにゆっくりご鑑賞ください。\n\n池田聡：https://satoshi.net\n\n■ 生配信日時 ■\n5月25日(水)\n1部：20:00〜\n2部：21:30〜\n※アーカイブ視聴期間：2022年5月29日(日)23:59迄\n注 )視聴購入は生配信日事前購入のみとなります。5/24(火)17:00迄となりますのでお気をつけください。\n\n■ 発売期間 ■\n※発売開始日\n2022年5月17日(火) AM10:00〜 5月24日(火)17:00迄\n注 ) アーカイブ期間の視聴に関してもご購入は上記期間内となりますのでお気をつけください。\n\n■ 視聴権購入先 ■\n購入方法は下記の3つのパターンからお選び頂けます。\n③は決済手数料がお得になっております。\n\n①1部のみ\n税込2\,420円（視聴料2\,200円+決済手数料220円）\nhttps://buy.stripe.com/8wMg104rk5Nyb8Q8wH\n\n②2部のみ\n税込2\,420円（視聴料2\,200円+決済手数料220円）\nhttps://buy.stripe.com/9AQbKK3ngdg0fp69AM\n\n③1部2部両方\n税込4\,620円（視聴料4\,400円+決済手数料220円）\nhttps://buy.stripe.com/8wMg10ga27VGel228l\n\n■ お問合せ先 ■\ninfo@azamasulab.jp\n\n■ 注意事項 ■\n※ 決済完了確認後、順次URLをお知らせ致します。\n※ URLお知らせ時に下記メールアドレスを受信できるように予めドメイン設定をお願い致します。info@azamasulab.jp\n※インターネット販売のみとなります。\n※ 各編生配信開始時刻の前日5/24（火）17:00までにご購入いただけますが、時間に余裕をもってお申込みください。
URL:https://satoshi.net/event/%e6%b1%a0%e7%94%b0%e8%81%a1-%e9%85%8d%e4%bf%a1live-2022-%e6%b1%a0%e3%81%a1%e3%82%83%e3%82%93%e3%81%ae%e3%82%84%e3%82%93%e3%81%a1%e3%82%83%e3%81%aa%e3%83%88%e3%83%bc%e3%82%afvol-2/
CATEGORIES:07.ネット配信
END:VEVENT
END:VCALENDAR