BEGIN:VCALENDAR
VERSION:2.0
PRODID:-//池田聡のOFFICIAL SITEへようこそ - ECPv4.4.3//NONSGML v1.0//EN
CALSCALE:GREGORIAN
METHOD:PUBLISH
X-WR-CALNAME:池田聡のOFFICIAL SITEへようこそ
X-ORIGINAL-URL:https://satoshi.net
X-WR-CALDESC:Events for 池田聡のOFFICIAL SITEへようこそ
BEGIN:VEVENT
DTSTART;VALUE=DATE:20220924
DTEND;VALUE=DATE:20220924
DTSTAMP:20260424T142911
CREATED:20220806T080055Z
LAST-MODIFIED:20220914T125035Z
UID:4120-1663977600-1664063999@satoshi.net
SUMMARY:アルバム発売記念 九州ツアー2022 ぶらりツアー 唐津
DESCRIPTION:【 日程 】2022年9月24日(土)\n【 会場 】DJSBAR-JOOK\n( 住所： 佐賀県唐津市中町1513-5大越ビル地下1階 ）\n【 開場 】17:30\n【 開演 】18:00\n【 Support Musician 】MICA(key / chor)\n【 料金 】前売り¥5\,000/ 当日¥5\,500(全席自由・別途1ドリンクオーダー)\n【 チケットご予約・お問合せ 】\nikeda.satoshi.live@gmail.com\n件名：924唐津LIVE\n＊お名前\n＊人数\n＊ ご連絡先\n上記4点をご明記の上お申込みください。一両日中に順次受付ご返信及び整理番号をお知らせ致します。\n【 会場お問合せ】\nTEL：0955-74-1771(22時以降〜\n/ 当日のみ16時〜)アクセス等ご不明な点は上記会場番号まで。\n\n【 ご注意事項 】\n＊新型コロナウイルスへの注意事項「発熱、マスク着用、消毒」等の状況に応じた防疫のガイドラインの遵守、モラルに添った行動をお願い致します。\n＊急なキャンセルは他のご予約希望のお客様のご迷惑になる場合もございますので、公演1週間前までにお願いいたします。\n＊撮影、録音、録画はご遠慮ください。\n＊フラッシュやシャッター音、雑音等で他のお客様にご迷惑行為があった際はご退場頂く場合がございますので、ご了承ください。
URL:https://satoshi.net/event/%e6%b1%a0%e7%94%b0%e8%81%a1-%e3%82%a2%e3%83%ab%e3%83%90%e3%83%a0%e7%99%ba%e5%a3%b2%e8%a8%98%e5%bf%b5-%e4%b9%9d%e5%b7%9e%e3%83%84%e3%82%a2%e3%83%bc2022-%e3%81%b6%e3%82%89%e3%82%8a%e3%83%84%e3%82%a2/
LOCATION:中町1513-5大越ビル地下1階\, 唐津市\, 佐賀県\, Japan
CATEGORIES:01.ライヴ
END:VEVENT
END:VCALENDAR