BEGIN:VCALENDAR
VERSION:2.0
PRODID:-//池田聡のOFFICIAL SITEへようこそ - ECPv4.4.3//NONSGML v1.0//EN
CALSCALE:GREGORIAN
METHOD:PUBLISH
X-WR-CALNAME:池田聡のOFFICIAL SITEへようこそ
X-ORIGINAL-URL:https://satoshi.net
X-WR-CALDESC:Events for 池田聡のOFFICIAL SITEへようこそ
BEGIN:VEVENT
DTSTART;VALUE=DATE:20221010
DTEND;VALUE=DATE:20221010
DTSTAMP:20260424T130136
CREATED:20220805T154617Z
LAST-MODIFIED:20220930T144748Z
UID:4118-1665360000-1665446399@satoshi.net
SUMMARY:池田聡・ノグチアツシ  さとス&あつスのらりくらりツアー 第4弾 柴矢さんといっしょ 汐留訪問‼️《 SOLD OUT 》
DESCRIPTION:【 日時 】2022年10月10日(月祝)《 SOLD OUT 》\n【 会場 】汐留ブルームード\n（ 〒104-0045 東京都中央区築地5丁目6-10 浜離宮パークサイドプレイス1F ）\nhttps://blue-mood.jp\n【 開場 】14:00\n【 開演 】15:00\n【 Guest Player】柴矢俊彦(guitar)\n【 料金 】¥7\,000-自由席・予約順入場( 1drink+1food別途要 )\n【ご予約・お問合せ】\n購入先：https://t.livepocket.jp/e/a5rra\n\n【 全会場共通ご注意事項 】\n《 新型コロナウイルスへの注意事項 》\n発熱、マスク着用、消毒」等の状況に応じた防疫のガイドラインの遵守、モラルに添った行動をお願い致します。\n＊急なキャンセルは、他のご予約希望のお客様のご迷惑になる場合もございますので、公演1週間前までにお願いいたします。\n＊撮影、録音、録画はご遠慮ください。\n＊フラッシュやシャッター音、雑音等で他のお客様にご迷惑行為があった際はご退場頂くか公演中止となる場合がございますので、ご了承ください。
URL:https://satoshi.net/event/%e6%b1%a0%e7%94%b0%e8%81%a1%e3%83%bb%e3%83%8e%e3%82%b0%e3%83%81%e3%82%a2%e3%83%84%e3%82%b7-%e3%81%95%e3%81%a8%e3%82%b9%e3%81%82%e3%81%a4%e3%82%b9%e3%81%ae%e3%82%89%e3%82%8a%e3%81%8f%e3%82%89/
LOCATION:築地5丁目6-10\, 中央区\, 東京都\, 104-0045
CATEGORIES:01.ライヴ
END:VEVENT
END:VCALENDAR