BEGIN:VCALENDAR
VERSION:2.0
PRODID:-//池田聡のOFFICIAL SITEへようこそ - ECPv4.4.3//NONSGML v1.0//EN
CALSCALE:GREGORIAN
METHOD:PUBLISH
X-WR-CALNAME:池田聡のOFFICIAL SITEへようこそ
X-ORIGINAL-URL:https://satoshi.net
X-WR-CALDESC:Events for 池田聡のOFFICIAL SITEへようこそ
BEGIN:VEVENT
DTSTART;VALUE=DATE:20221008
DTEND;VALUE=DATE:20221008
DTSTAMP:20260424T143040
CREATED:20220805T154108Z
LAST-MODIFIED:20220805T154229Z
UID:4114-1665187200-1665273599@satoshi.net
SUMMARY:池田聡・ノグチアツシ  さとス&あつス　のらりくらりツアー 第4弾 長野訪問‼️
DESCRIPTION:【 日程 】2022年10月8日(土)\n【 会場 】モリヤホール(〒380-0823 長野市南千歳1-3-7 アイビースクエアビル3F)\n【 開場 】13:30\n【 開演 】14:00\n【 料金 】¥6\,000（税込み・自由席)\n※ご予約受付順のご入場となります。\n※開場時間にご不在の場合はそのまま後手に回ってしまうのでご注意ください。\n【 ご予約 】\nMail：info.naganolive@gmail.com\n件名：1008長野LIVE\n本文：お名前、人数、ご連絡先電話番号、\n上記、3点をご明記の上お申し込みください。\n※ご返信の際、整理番号をお知らせ致します。\n※お申し込み後2日経過しても返信無き場合は返信メールがエラーとなっている可能性があります。上記メールアドレスのドメイン設定をお試し頂き、再度お申込みください。\n\n【 公演に関するお問合せ 】\ninfo.naganolive@gmail.com\n\n【 本会場ご注意事項 】\n＊会場へのお問合せ不可\n＊ご返金不可\n\n【 全会場共通ご注意事項 】\n《 新型コロナウイルスへの注意事項 》\n発熱、マスク着用、消毒」等の状況に応じた防疫のガイドラインの遵守、モラルに添った行動をお願い致します。\n＊急なキャンセルは、他のご予約希望のお客様のご迷惑になる場合もございますので、公演1週間前までにお願いいたします。\n＊撮影、録音、録画はご遠慮ください。\n＊フラッシュやシャッター音、雑音等で他のお客様にご迷惑行為があった際はご退場頂くか公演中止となる場合がございますので、ご了承ください。
URL:https://satoshi.net/event/%e6%b1%a0%e7%94%b0%e8%81%a1%e3%83%bb%e3%83%8e%e3%82%b0%e3%83%81%e3%82%a2%e3%83%84%e3%82%b7-%e3%81%95%e3%81%a8%e3%82%b9%e3%81%82%e3%81%a4%e3%82%b9%e3%80%80%e3%81%ae%e3%82%89%e3%82%8a%e3%81%8f-2/
LOCATION:南千歳1-3-7 アイビースクエアビル3F\, 長野市\, 長野県\, 380-0823\, Japan
CATEGORIES:01.ライヴ
END:VEVENT
END:VCALENDAR