BEGIN:VCALENDAR
VERSION:2.0
PRODID:-//池田聡のOFFICIAL SITEへようこそ - ECPv4.4.3//NONSGML v1.0//EN
CALSCALE:GREGORIAN
METHOD:PUBLISH
X-WR-CALNAME:池田聡のOFFICIAL SITEへようこそ
X-ORIGINAL-URL:https://satoshi.net
X-WR-CALDESC:Events for 池田聡のOFFICIAL SITEへようこそ
BEGIN:VEVENT
DTSTART;VALUE=DATE:20241126
DTEND;VALUE=DATE:20241126
DTSTAMP:20260422T090202
CREATED:20241011T105513Z
LAST-MODIFIED:20241011T105513Z
UID:5454-1732579200-1732665599@satoshi.net
SUMMARY:汐留 BLUE MOOD Presents 生池ちゃんねる 生配信LIVE 2024 第3弾！
DESCRIPTION:汐留 BLUE MOOD Presents\n生池ちゃんねる 生配信LIVE 2024\n第3弾！\n\n■ Special support ■\n古川昌義(g)\n\n■ メッセージ ■\n池田聡が不定期に贈る生配信LIVE。\n今年第3弾は日本を代表するTOPミュージシャン古川昌義さんをお迎えする事が実現！！\n今や入手困難となってしまったsong bookシリーズ『 trio 』のレコーディングからレコ発を共にした古川さんと、この夏のコンサートで10年ぶりに共演したのを機にこの企画へお呼びする事が叶いました。\nどうぞお見逃しなく！！\n\n古川昌義profile：https://fm7419.wixsite.com/masayoshifurukawa\n\n〜 現地観覧ご希望の方 〜\n【 日程 】2024年11月26日(火)\n【 会場 】汐留ブルームード\n（ 〒104-0045 東京都中央区築地5丁目6-10 浜離宮パークサイドプレイス1F ）\nhttps://blue-mood.jp\n【 開場 】18:30\n【 開演 】前編 / 19:30 後編 / 20:45\n【 Special support 】古川昌義(g)\n【 料金 】¥7\,500- 席数限定\n(1food+1drink別途要)\n【 募集期間 】2024年10月13日(日祝)15:00〜 定員になり次第終了\n【 お申込み先 】\nMail : ikeda.satoshi.live@gmail.com\n＊件名：1126観覧希望\n＊お名前\n＊人数\n＊ご連絡先\n上記をご明記の上送信ください。\n【 ご注意事項 】\n※ 全編音楽生配信です。\n※ 観覧は前編・後編、休憩中のやり取りまで、通し観覧して頂けます。\n※ 配信がメインの為ステージ前の広域がカメラ流動スペースとなります。予めご了承ください。\n※ 前編/後編　休憩15分間\n\n〜 配信視聴ご希望の方〜\n【 配信料金 】各部¥2\,200(税込)\n【 前編 】19:30〜( 60分 )\n【 後編 】20:45〜 ( 60分 )\n※ 前編・後編、楽曲は異なります。\n【 販売期間 】\n2024年10月14日(月祝)15:00〜\n12月3日(火)20:00迄\n【 視聴可能期間 】\n生配信後〜2024年12月3日(火)23:59迄視聴可能です。\n【 前編チケット購入先】\nhttps://twitcasting.tv/c:blue_mood/shopcart/337060\n【 後編チケット購入先 】\nhttps://twitcasting.tv/c:blue_mood/shopcart/337061\n【 ご注意事項 】\n※インターネット販売のみ。\n※配信日2日前AM0時以降はクレジットカードのみでのお支払いとなります。\n※生配信視聴をされる方は時間に余裕をもって前日までにご購入ください。
URL:https://satoshi.net/event/%e6%b1%90%e7%95%99-blue-mood-presents-%e7%94%9f%e6%b1%a0%e3%81%a1%e3%82%83%e3%82%93%e3%81%ad%e3%82%8b-%e7%94%9f%e9%85%8d%e4%bf%a1live-2024-%e7%ac%ac3%e5%bc%be%ef%bc%81/
CATEGORIES:07.ネット配信
END:VEVENT
END:VCALENDAR