BEGIN:VCALENDAR
VERSION:2.0
PRODID:-//池田聡のOFFICIAL SITEへようこそ - ECPv4.4.3//NONSGML v1.0//EN
CALSCALE:GREGORIAN
METHOD:PUBLISH
X-WR-CALNAME:池田聡のOFFICIAL SITEへようこそ
X-ORIGINAL-URL:https://satoshi.net
X-WR-CALDESC:Events for 池田聡のOFFICIAL SITEへようこそ
BEGIN:VEVENT
DTSTART;VALUE=DATE:20240814
DTEND;VALUE=DATE:20240814
DTSTAMP:20260422T185406
CREATED:20240625T110047Z
LAST-MODIFIED:20240703T050902Z
UID:5291-1723593600-1723679999@satoshi.net
SUMMARY:汐留 BLUE MOOD Presents 生池ちゃんねる 生配信LIVE 2024 第2弾！ 〜シークレットゲストあり〜 《 観覧席 満席 》
DESCRIPTION:汐留 BLUE MOOD Presents\n生池ちゃんねる 生配信LIVE 2024 第2弾！\n〜シークレットゲストあり〜\n■ Special support ■\n安部潤(p/f)\n\n■ メッセージ ■\n池田聡が不定期に贈る生配信LIVEです。\n今年第2弾は、8/24開催の柏LIVEが早々に完売してしまい、キャンセル待ちの方々も多数いらっしゃるとの事ですので、急遽生配信を企画致しました。8/24とは何曲か違いますのでお楽しみに。\nお久しぶりのアレンジャー&ピアニストの安部潤さんとの共演に加え、2人に縁のあるシークレット㊙️ゲストにあの方が登場！\n2人のまったりトークで仕事やお盆疲れを癒やして下さい！\n\n〜 観覧ご希望の方 〜\n【 日程 】2024年8月14日(水) 《 満席 》\n【 会場 】汐留ブルームード\n（ 〒104-0045 東京都中央区築地5丁目6-10 浜離宮パークサイドプレイス1F ）\nhttps://blue-mood.jp\n【 開場 】19:00\n【 開演 】前編 / 20:00 後編 / 21:15\n【 Special support 】安部潤(p/f)\n【 料金 】¥7\,000-席数限定\n(1food+1drink別途要)\n【 募集期間 】2024年6月30日(日)15:00〜 定員になり次第終了\n【 お申込み先 】\nMail : ikeda.satoshi.live@gmail.com\n＊件名：0814観覧希望\n＊お名前\n＊人数\n＊ご連絡先\n上記をご明記の上送信ください。\n【 ご注意事項 】\n※ 全編音楽生配信です。\n※ 観覧は前編・後編、休憩中のやり取りまで、通し観覧して頂けます。\n※ 配信がメインの為ステージ前の広域がカメラ流動スペースとなります。予めご了承ください。\n※ 前編/後編　休憩15分間\n\n〜 配信視聴ご希望の方〜\n【 配信料金 】各部¥2\,000+消費税\n【 前編 】20:00〜( 60分 )\n【 後編 】21:15〜 ( 60分 )\n※ 前編・後編、楽曲は異なります。\n\n【 発売期間 】\n2024年6月29日(土)15:00〜\n8月23日(金)20:00迄\n\n【 前編チケット購入先】\nhttps://twitcasting.tv/c:blue_mood/shopcart/314653\n\n【 後編チケット購入先 】\nhttps://twitcasting.tv/c:blue_mood/shopcart/314654\n\n【 アーカイブ視聴期間 】\n生配信後〜2024年8月23日(水)23:59迄視聴可能です。\n\n【 ご注意事項 】\n※インターネット販売のみ。\n※配信日2日前AM0時以降はクレジットカードのみでのお支払いとなります。\n※生配信視聴をされる方は時間に余裕をもって前日までにご購入ください。
URL:https://satoshi.net/event/%e6%b1%90%e7%95%99-blue-mood-presents-%e7%94%9f%e6%b1%a0%e3%81%a1%e3%82%83%e3%82%93%e3%81%ad%e3%82%8b-%e7%94%9f%e9%85%8d%e4%bf%a1live-2024-%e7%ac%ac2%e5%bc%be%ef%bc%81-%e3%80%9c%e3%82%b7%e3%83%bc/
LOCATION:築地5丁目6-10\, 中央区\, 東京都\, 104-0045
CATEGORIES:07.ネット配信
END:VEVENT
END:VCALENDAR