BEGIN:VCALENDAR
VERSION:2.0
PRODID:-//池田聡のOFFICIAL SITEへようこそ - ECPv4.4.3//NONSGML v1.0//EN
CALSCALE:GREGORIAN
METHOD:PUBLISH
X-WR-CALNAME:池田聡のOFFICIAL SITEへようこそ
X-ORIGINAL-URL:https://satoshi.net
X-WR-CALDESC:Events for 池田聡のOFFICIAL SITEへようこそ
BEGIN:VEVENT
DTSTART;VALUE=DATE:20221111
DTEND;VALUE=DATE:20221111
DTSTAMP:20260424T112125
CREATED:20221027T095052Z
LAST-MODIFIED:20221110T075118Z
UID:4279-1668124800-1668211199@satoshi.net
SUMMARY:汐留 BLUE MOOD Presents 池田聡 配信LIVE 2022 生池ちゃんねる Vol.5
DESCRIPTION:【 日程 】2022年11月11日(金)\n【 Guest Musician】真藤敬利(p/f＆Cho) / ジミー岩崎(keyb)\n　※ 《 生観覧は SOLD OUT となりました 》\n【 配信料金 】各部¥2\,000\n【 前編 】19:30〜 ( 60分 )\n【 後編 】20:45〜 ( 60分 )\n\n【 販売日 】〜11月17日(木)20:00迄\n【 前編チケット購入先】\nhttps://twitcasting.tv/c:blue_mood/shopcart/189860\n\n【 後編チケット購入先 】\nhttps://twitcasting.tv/c:blue_mood/shopcart/189862\n\n【 見逃し配信視聴 】\n各部11/17(木)23:59迄視聴可能です。\n\n※インターネット販売のみ。\n※配信日2日前AM0時以降はクレジットカードのみでのお支払いとなります。\n※生配信視聴をされる方は時間に余裕をもって視聴予約をお申込みください。
URL:https://satoshi.net/event/%e6%b1%90%e7%95%99-blue-mood-presents-%e6%b1%a0%e7%94%b0%e8%81%a1-%e9%85%8d%e4%bf%a1live-2022-%e7%94%9f%e6%b1%a0%e3%81%a1%e3%82%83%e3%82%93%e3%81%ad%e3%82%8b-vol-5/
CATEGORIES:07.ネット配信
END:VEVENT
END:VCALENDAR