BEGIN:VCALENDAR
VERSION:2.0
PRODID:-//池田聡のOFFICIAL SITEへようこそ - ECPv4.4.3//NONSGML v1.0//EN
CALSCALE:GREGORIAN
METHOD:PUBLISH
X-WR-CALNAME:池田聡のOFFICIAL SITEへようこそ
X-ORIGINAL-URL:https://satoshi.net
X-WR-CALDESC:Events for 池田聡のOFFICIAL SITEへようこそ
BEGIN:VEVENT
DTSTART;VALUE=DATE:20221210
DTEND;VALUE=DATE:20221210
DTSTAMP:20260424T130438
CREATED:20221011T151903Z
LAST-MODIFIED:20221011T152214Z
UID:4261-1670630400-1670716799@satoshi.net
SUMMARY:旅は道連れ むとうさんといっしょツアー 高槻 2DAYS
DESCRIPTION:【 日程 】2022年12月10日(土)\n【 会場 】高槻 MUSIC SQUARE 1624 TENJIN (大阪府高槻市天神町1-6-24 天神ビル地下1階)\n【 開場 】17:00\n【 開演 】18:00〜 入替無し2部制\n【 出演 】池田聡(Vo./g) 武藤良明(g/cho)\n【 料金 】6\,500円 ( 2日間通し券12\,000 )\n（税込み・予約順指定席・2オーダー別途要\n※2ドリンク、又は、1ドリンク+1フードかお選び頂けます。)\n【 お申込み開始日 】2022年10月19日(水)20時〜\n【ご予約・お問合せ】\n・URL：http://www.mam-1624.com/live/202212/20221210n.html\n・MUSIC SQUARE 1624 TENJIN ℡：072-691-1624\n\n【 LIVE内容 】\n3年ぶりに開催の大人気企画、ギタリスト武藤良明さんと紡ぐ音楽の祭典が帰って参りました！二本のギターから奏でる音質も、武藤さんならではの演奏も艶やかに聴きごたえ抜群です。\n高槻初公演『むとうさんといっしょ』。\n2日間音楽マニアの2人が繰り広げるトークもお楽しみください！\n\n【 ご注意事項 】\n＊新型コロナウイルスへの注意事項「発熱、マスク着用、消毒」等の状況に応じた防疫のガイドラインの遵守、モラルに添った行動をお願い致します。\n＊キャンセル等要項はお店からの返信メールを必ずご確認ください。\n＊撮影、録音、録画はご遠慮ください。\n＊フラッシュやシャッター音、雑音・騒音等で他のお客様にご不快と判断された時点でご退場頂きますので、ご了承ください。\n＊ 相互でマナーを守りより良い環境となるようご協力お願いします！
URL:https://satoshi.net/event/%e6%97%85%e3%81%af%e9%81%93%e9%80%a3%e3%82%8c-%e3%82%80%e3%81%a8%e3%81%86%e3%81%95%e3%82%93%e3%81%a8%e3%81%84%e3%81%a3%e3%81%97%e3%82%87%e3%83%84%e3%82%a2%e3%83%bc-%e9%ab%98%e6%a7%bb-2days/
LOCATION:天神町1-6-24\, 高槻市\, 大阪府\, 569-1117\, Japan
CATEGORIES:01.ライヴ
END:VEVENT
END:VCALENDAR