BEGIN:VCALENDAR
VERSION:2.0
PRODID:-//池田聡のOFFICIAL SITEへようこそ - ECPv4.4.3//NONSGML v1.0//EN
CALSCALE:GREGORIAN
METHOD:PUBLISH
X-WR-CALNAME:池田聡のOFFICIAL SITEへようこそ
X-ORIGINAL-URL:https://satoshi.net
X-WR-CALDESC:Events for 池田聡のOFFICIAL SITEへようこそ
BEGIN:VEVENT
DTSTART;VALUE=DATE:20221225
DTEND;VALUE=DATE:20221225
DTSTAMP:20260424T143008
CREATED:20221003T010706Z
LAST-MODIFIED:20221003T010706Z
UID:4229-1671926400-1672012799@satoshi.net
SUMMARY:年末恒例 池田聡 Live Only For Men 第6弾〜アルバム発売記念TAMAYURA
DESCRIPTION:【 日程 】2022年12月25日(日)\n【 会場 】パラダイスカフェ(〒231-0013横浜市中区住吉町6-72 シャンローゼ関内 B1)\nhttp://www.paradisecafe2001.com\n【 出演 】池田聡(vo/g) / 柴矢俊彦 (g)\n【 開場 】16:00\n【 開演 】17:00〜 途中休憩あり\n【 料金 】(席数限定) ¥5\,500 ( 税込み・自由席・2オーダー別途要)\n【 参加資格 】戸籍上男性であること！\n【 LIVE内容 】年末恒例の男性限定のライヴ。池田聡スタンダード曲+NEW ALBUM+男性人気曲（？）で構成されるスペシャルなライヴです。\n【 ご予約 】\n・パラダイスカフェオンライン予約\n2022年10月22日(土)12:00受付開始\nhttps://tiget.net/users/46088\n※ 上記URLのライブ一覧ページから、池田聡LIVEの詳細ページにお進み頂き、「このライブをオンライン予約する」をクリックして頂くと、オンライン予約のページが表示されます。\n\n・パラダイスカフェ電話予約\n2022年10月25日(火)16:00受付開始\nパラダイスカフェTEL: 045-228-1668\n※ 当日は、ご予約受付順でのご入場となります。予めご了承ください。\n【 お問合せ 】\nTEL：045-228-1668\n\n【 ご注意事項 】\n《 新型コロナウイルスへの注意事項 》\n発熱、マスク着用、消毒」等の状況に応じた防疫のガイドラインの遵守、モラルに添った行動をお願い致します。\n＊急なキャンセルは、他のご予約希望のお客様のご迷惑になる場合もございますので、公演1週間前までにお願いいたします。\n＊撮影、録音、録画はご遠慮ください。\n＊フラッシュやシャッター音、雑音等で他のお客様にご迷惑行為があった際はご退場頂くか公演中止となる場合がございますので、ご了承ください。
URL:https://satoshi.net/event/%e5%b9%b4%e6%9c%ab%e6%81%92%e4%be%8b-%e6%b1%a0%e7%94%b0%e8%81%a1-live-only-for-men-%e7%ac%ac6%e5%bc%be%e3%80%9c%e3%82%a2%e3%83%ab%e3%83%90%e3%83%a0%e7%99%ba%e5%a3%b2%e8%a8%98%e5%bf%b5tamayura/
LOCATION:中区住吉町6-72 シャンローゼ関内 B1\, 横浜市\, 神奈川県\, 231-0013\, Japan
CATEGORIES:01.ライヴ
END:VEVENT
END:VCALENDAR