BEGIN:VCALENDAR
VERSION:2.0
PRODID:-//池田聡のOFFICIAL SITEへようこそ - ECPv4.4.3//NONSGML v1.0//EN
CALSCALE:GREGORIAN
METHOD:PUBLISH
X-WR-CALNAME:池田聡のOFFICIAL SITEへようこそ
X-ORIGINAL-URL:https://satoshi.net
X-WR-CALDESC:Events for 池田聡のOFFICIAL SITEへようこそ
BEGIN:VEVENT
DTSTART;VALUE=DATE:20230212
DTEND;VALUE=DATE:20230212
DTSTAMP:20260424T142655
CREATED:20221221T054622Z
LAST-MODIFIED:20230209T161404Z
UID:4339-1676160000-1676246399@satoshi.net
SUMMARY:川成順 featuring 池田聡（ゲスト出演）《 残席僅か 》
DESCRIPTION:【 日程 】2023年2月12日(日) 《 残席僅か 》\n【 会場 】まほろ座 MACHIDA\n（〒194-0022東京都町田市森野1-15-13 パリオビルB1F）\nhttps://www.mahoroza.jp/230212\n【 出演 】川成順\n川内啓史(Ba)\n友成好宏(Pf)\n梶原順(Gt)\nゲスト\n池田聡(Vo)\n【 開場 】17:00\n【 開演 】18:00\n【 料金 】前売 7\,000円 / 当日 7\,500円（ 別途1ドリンク)\n【 販売 】\n❶プレイガイド：Livepocket\n・～2/11（土）23:59まで\nhttps://t.livepocket.jp/e/spyh9\n《Livepocketご利用ガイド》\nhttps://t.livepocket.jp/help/about\n\n❷電話予約：まほろ座 MACHIDA\n・～2/11（土）まで\n042-732-3139\n※プレイガイドの先行販売で完売する場合もございます\n\n※お一人様4枚まで\n※キャンセルによる払い戻しはできません\n★車椅子をご使用の方、身体の不自由な方で特定の座席指定や特別なサポートが必要な方は事前にご連絡下さい（042-732-3139）\n\n【 LIVE内容 】\nそれぞれ数多のアーティストをサポートしてきた川成順の3人が\nシンガーの池田聡をゲストに迎えてのセッション。\nインスト、歌物様々な曲をお楽しみください。\n\n【 新型コロナウイルスへの注意事項 】\n「発熱、マスク着用、消毒」等の状況に応じた防疫のガイドラインの遵守、モラルに添った行動をお願い致します。\n☆以下「ご協力のお願い事項」を必ずご一読お願い申し上げます。\nhttps://www.mahoroza.jp/2020\n\n【 ご注意事項 】\n＊撮影、録音、録画はご遠慮ください。\n＊フラッシュやシャッター音、雑音等で他のお客様にご迷惑行為があった際はご退場頂く場合がございますので、ご了承ください。
URL:https://satoshi.net/event/%e5%b7%9d%e6%88%90%e9%a0%86-featuring-%e6%b1%a0%e7%94%b0%e8%81%a1%ef%bc%88%e3%82%b2%e3%82%b9%e3%83%88%e5%87%ba%e6%bc%94%ef%bc%89/
LOCATION:森野1-15-13 パリオビルB1F\, 町田市\, 東京都\, 〒194-0022\, Japan
CATEGORIES:03.ライヴ・ゲスト出演
END:VEVENT
END:VCALENDAR