BEGIN:VCALENDAR
VERSION:2.0
PRODID:-//池田聡のOFFICIAL SITEへようこそ - ECPv4.4.3//NONSGML v1.0//EN
CALSCALE:GREGORIAN
METHOD:PUBLISH
X-WR-CALNAME:池田聡のOFFICIAL SITEへようこそ
X-ORIGINAL-URL:https://satoshi.net
X-WR-CALDESC:Events for 池田聡のOFFICIAL SITEへようこそ
BEGIN:VEVENT
DTSTART;VALUE=DATE:20241005
DTEND;VALUE=DATE:20241005
DTSTAMP:20260422T134828
CREATED:20240708T133017Z
LAST-MODIFIED:20240819T055156Z
UID:5329-1728086400-1728172799@satoshi.net
SUMMARY:北関東ツアー2024 水戸 オールリクエストLIVE《 満席（キャンセル待ちアリ） 》
DESCRIPTION:【 日程 】2024年10月5日(土)《 満席（キャンセル待ちアリ） 》\n【 会場 】Girl talk\n（〒310-0804 茨城県水戸市白梅1丁目7-15 江橋ビル 2F）\nhttp://www.girltalk.co.jp/index.shtml\n【 開場 】17:00\n【 開演 】18:00\n【 料金 】前売り4\,500円 / 当日5\,000円（税込み・全席指定・2オーダー別途要）\n【 ご予約 】\n発売日：2024/ 7 / 15 (月祝 )10時〜\n(※ 発売日から1ヶ月はメール予約のみとなります。)\n申込み先Mail：info@girltalk.co.jp\n【 ライヴ内容 】\n「オールリクエストライヴ」は、その名の通り全曲リクエストされた楽曲だけで構成されるライヴです。\n100曲を超えるリストの中からお客様一人につき1曲リクエスト用紙に記入していただきリクエストボックスに投函していただきます。池田聡がボックスより1曲ずつ引き当てたリクエスト曲をぶっつけ本番で歌います！\n【 お問合せ 】\nGirl talk : ℡：029-225-0050\n\n【 ご注意事項 】\n＊急なキャンセルは、他のご予約希望のお客様のご迷惑になる場合もございますので、公演1週間前までにお願いいたします。\n＊撮影、録音、録画はご遠慮ください。\n＊フラッシュやシャッター音、雑音等で他のお客様にご迷惑行為があった際はご退場頂くか、公演自体中止になる場合がございますので、ご了承ください。
URL:https://satoshi.net/event/%e5%8c%97%e9%96%a2%e6%9d%b1%e3%83%84%e3%82%a2%e3%83%bc2024-%e6%b0%b4%e6%88%b8-%e3%82%aa%e3%83%bc%e3%83%ab%e3%83%aa%e3%82%af%e3%82%a8%e3%82%b9%e3%83%88live/
LOCATION:白梅1丁目7−6\, 水戸市\, 茨城県\, 〒310-0804\, Japan
CATEGORIES:01.ライヴ
END:VEVENT
END:VCALENDAR