BEGIN:VCALENDAR
VERSION:2.0
PRODID:-//池田聡のOFFICIAL SITEへようこそ - ECPv4.4.3//NONSGML v1.0//EN
CALSCALE:GREGORIAN
METHOD:PUBLISH
X-WR-CALNAME:池田聡のOFFICIAL SITEへようこそ
X-ORIGINAL-URL:https://satoshi.net
X-WR-CALDESC:Events for 池田聡のOFFICIAL SITEへようこそ
BEGIN:VEVENT
DTSTART;VALUE=DATE:20240625
DTEND;VALUE=DATE:20240625
DTSTAMP:20260422T210544
CREATED:20240524T125508Z
LAST-MODIFIED:20240524T125508Z
UID:5252-1719273600-1719359999@satoshi.net
SUMMARY:モノクローム・ヴィーナス2023ver.  100万回再生突破記念イベント FC限定特別生配信
DESCRIPTION:モノクローム・ヴィーナス2023ver. \n100万回再生突破記念イベント\nFC限定特別生配信\n\n\nFC会員サイト(Fanicon)内、\n投稿内容をご確認ください。
URL:https://satoshi.net/event/%e3%83%a2%e3%83%8e%e3%82%af%e3%83%ad%e3%83%bc%e3%83%a0%e3%83%bb%e3%83%b4%e3%82%a3%e3%83%bc%e3%83%8a%e3%82%b92023ver-100%e4%b8%87%e5%9b%9e%e5%86%8d%e7%94%9f%e7%aa%81%e7%a0%b4%e8%a8%98%e5%bf%b5/
CATEGORIES:07.ネット配信
END:VEVENT
END:VCALENDAR