BEGIN:VCALENDAR
VERSION:2.0
PRODID:-//池田聡のOFFICIAL SITEへようこそ - ECPv4.4.3//NONSGML v1.0//EN
CALSCALE:GREGORIAN
METHOD:PUBLISH
X-WR-CALNAME:池田聡のOFFICIAL SITEへようこそ
X-ORIGINAL-URL:https://satoshi.net
X-WR-CALDESC:Events for 池田聡のOFFICIAL SITEへようこそ
BEGIN:VEVENT
DTSTART;VALUE=DATE:20221029
DTEND;VALUE=DATE:20221029
DTSTAMP:20260424T143234
CREATED:20220924T023913Z
LAST-MODIFIED:20220924T053608Z
UID:4192-1667001600-1667087999@satoshi.net
SUMMARY:イベント出演「ハロウィンマルシェ〜道の駅サシバの里いちかい」
DESCRIPTION:ハロウィンマルシェ〜道の駅サシバの里いちかい\n【 日程 】2022年10月29日(土)\n【 会場 】道の駅サシバの里いちかい 大テントステージ\n(〒321-3423栃木県芳賀郡市貝町市塙1270）\n【 開演 】15:00〜\n【 観覧 】無料\n【 お問合せ 】\n道の駅サシバの里いちかいTEL：0285-68-3485
URL:https://satoshi.net/event/%e3%83%8f%e3%83%ad%e3%82%a6%e3%82%a3%e3%83%b3%e3%83%9e%e3%83%ab%e3%82%b7%e3%82%a7%e3%80%9c%e9%81%93%e3%81%ae%e9%a7%85%e3%82%b5%e3%82%b7%e3%83%90%e3%81%ae%e9%87%8c%e3%81%84%e3%81%a1%e3%81%8b%e3%81%84/
LOCATION:芳賀郡市貝町市塙1270\, 栃木県\, 321-3423\, Japan
CATEGORIES:02.ライヴ・イベント
END:VEVENT
END:VCALENDAR