BEGIN:VCALENDAR
VERSION:2.0
PRODID:-//池田聡のOFFICIAL SITEへようこそ - ECPv4.4.3//NONSGML v1.0//EN
CALSCALE:GREGORIAN
METHOD:PUBLISH
X-WR-CALNAME:池田聡のOFFICIAL SITEへようこそ
X-ORIGINAL-URL:https://satoshi.net
X-WR-CALDESC:Events for 池田聡のOFFICIAL SITEへようこそ
BEGIN:VEVENT
DTSTART;VALUE=DATE:20241012
DTEND;VALUE=DATE:20241012
DTSTAMP:20260422T190611
CREATED:20240731T010058Z
LAST-MODIFIED:20240820T133442Z
UID:5378-1728691200-1728777599@satoshi.net
SUMMARY:カジュアルディナーライヴ 宇部《 満席 》
DESCRIPTION:【 日程 】2024年10月12日(土)<font color="red">《 満席 》</font>\n【 会場 】ビストロ トシ\n（〒759-0204 山口県宇部市妻崎開作2046-12）\n【 開場 】17:30（食事スタート18:00）\n【 開演 】19:00\n【 オープニングアクト 】Jizo\n【 料金 】7\,000円(特別ディナー込）\n【 ご予約・お問合せ 】\nビストロ トシ ℡：0836-44-7760\n（受付時間 11:30~20:00）\n\n【 ご注意事項 】\n＊撮影、録音、録画はご遠慮ください。\n＊フラッシュやシャッター音、雑音等で他のお客様にご迷惑行為があった際はご退場頂く場合がございますので、ご了承ください。
URL:https://satoshi.net/event/%e3%82%ab%e3%82%b8%e3%83%a5%e3%82%a2%e3%83%ab%e3%83%87%e3%82%a3%e3%83%8a%e3%83%bc%e3%83%a9%e3%82%a4%e3%83%b4-%e5%ae%87%e9%83%a8/
LOCATION:妻崎開作2046-12\, 宇部市\, 山口県\, 〒759-0204 \, Japan
CATEGORIES:02.ライヴ・イベント
END:VEVENT
END:VCALENDAR