BEGIN:VCALENDAR
VERSION:2.0
PRODID:-//池田聡のOFFICIAL SITEへようこそ - ECPv4.4.3//NONSGML v1.0//EN
CALSCALE:GREGORIAN
METHOD:PUBLISH
X-WR-CALNAME:池田聡のOFFICIAL SITEへようこそ
X-ORIGINAL-URL:https://satoshi.net
X-WR-CALDESC:Events for 池田聡のOFFICIAL SITEへようこそ
BEGIN:VEVENT
DTSTART;VALUE=DATE:20220819
DTEND;VALUE=DATE:20220819
DTSTAMP:20260424T141202
CREATED:20220818T033108Z
LAST-MODIFIED:20220818T033108Z
UID:4145-1660867200-1660953599@satoshi.net
SUMMARY:エフエム青森『 ラジmott! 』電話ゲスト出演
DESCRIPTION:【 日程 】2022年8月19日(金)\n【 番組名 】『 ラジmott! 』\n【 番組HP 】https://afb.co.jp/radi-mott/\n【 放送時間 】（月〜木）16:50〜18:55 （金）16:00〜18:55\n※池田聡電話生出演は18:05頃〜です\n【 パーソナリティ 】里村好美アナウンサー・d-iZe(ダイズ)さん\n【 聴取方法 】全国で聴取可能\n詳細：https://afb.co.jp/howto/\n【 メッセージ、リクエスト 】\nhttps://afb.co.jp/radimott-contact/
URL:https://satoshi.net/event/%e3%82%a8%e3%83%95%e3%82%a8%e3%83%a0%e9%9d%92%e6%a3%ae%e3%80%8e-%e3%83%a9%e3%82%b8mott-%e3%80%8f%e9%9b%bb%e8%a9%b1%e3%82%b2%e3%82%b9%e3%83%88%e5%87%ba%e6%bc%94/
CATEGORIES:06.ラジオ
END:VEVENT
END:VCALENDAR