BEGIN:VCALENDAR
VERSION:2.0
PRODID:-//池田聡のOFFICIAL SITEへようこそ - ECPv4.4.3//NONSGML v1.0//EN
CALSCALE:GREGORIAN
METHOD:PUBLISH
X-WR-CALNAME:池田聡のOFFICIAL SITEへようこそ
X-ORIGINAL-URL:https://satoshi.net
X-WR-CALDESC:Events for 池田聡のOFFICIAL SITEへようこそ
BEGIN:VEVENT
DTSTART;VALUE=DATE:20220810
DTEND;VALUE=DATE:20220810
DTSTAMP:20260424T154917
CREATED:20220714T051246Z
LAST-MODIFIED:20220714T051246Z
UID:4054-1660089600-1660175999@satoshi.net
SUMMARY:インストアLIVE @東京
DESCRIPTION:【 日程 】2022年8月10日(水)\n【 時間 】19:00〜\n【 会場 】タワーレコード新宿店9階イベントスペース\n【 イベント参加方法 】\n詳しくは下記タワーレコード新宿店HPをご確認下さい。\nhttps://tower.jp/store/event/2022/08/055011i
URL:https://satoshi.net/event/%e3%82%a4%e3%83%b3%e3%82%b9%e3%83%88%e3%82%a2live-%e6%9d%b1%e4%ba%ac/
LOCATION:新宿3-37-1 \, 新宿区\, 東京都\, 〒160-0022\, Japan
END:VEVENT
END:VCALENDAR