BEGIN:VCALENDAR
VERSION:2.0
PRODID:-//池田聡のOFFICIAL SITEへようこそ - ECPv4.4.3//NONSGML v1.0//EN
CALSCALE:GREGORIAN
METHOD:PUBLISH
X-WR-CALNAME:池田聡のOFFICIAL SITEへようこそ
X-ORIGINAL-URL:https://satoshi.net
X-WR-CALDESC:Events for 池田聡のOFFICIAL SITEへようこそ
BEGIN:VEVENT
DTSTART;VALUE=DATE:20220826
DTEND;VALUE=DATE:20220826
DTSTAMP:20260424T173309
CREATED:20220708T051048Z
LAST-MODIFIED:20220708T051048Z
UID:4029-1661472000-1661558399@satoshi.net
SUMMARY:アルバム発売記念 東北ツアー2022 ぶらりツアー 横手
DESCRIPTION:【 日程 】2022年8月26日(金)\n【 会場 】Live & Caffe Bless One\n(〒013-0063 秋田県横手市婦気大堤字下久保25-1)\nhttps://www.facebook.com/profile.php?id=100026702012608\n【 開場 】18:30\n【 開演 】19:00\n【 料金 】¥ 4\,500 (全席自由・別途1ドリンク)\n【 ご予約・お問合せ 】\nLive & Caffe Bless One\nTEL：0182-23-7280\nTEL：090-5838-4739\n\n【 ご注意事項 】\n＊キャンセルは他のご予約希望のお客様のご迷惑になる場合もございますので、公演1週間前までにお願いいたします。\n＊撮影、録音、録画はご遠慮ください。\n＊フラッシュやシャッター音、雑音等で他のお客様にご迷惑行為があった際はご退場頂くか、公演自体が中止になる場合がございますので、ご了承ください。\n《新型コロナウイルスへの注意事項》\n「発熱、マスク着用、消毒」等の状況に応じた防疫のガイドラインの遵守、モラルに添った行動をお願い致します。
URL:https://satoshi.net/event/%e3%82%a2%e3%83%ab%e3%83%90%e3%83%a0%e7%99%ba%e5%a3%b2%e8%a8%98%e5%bf%b5-%e6%9d%b1%e5%8c%97%e3%83%84%e3%82%a2%e3%83%bc2022-%e3%81%b6%e3%82%89%e3%82%8a%e3%83%84%e3%82%a2%e3%83%bc-%e6%a8%aa%e6%89%8b-2/
LOCATION:婦気大堤字下久保25-1\, 横手市\, 秋田県\, 013-0063\, Japan
CATEGORIES:01.ライヴ
END:VEVENT
END:VCALENDAR