BEGIN:VCALENDAR
VERSION:2.0
PRODID:-//池田聡のOFFICIAL SITEへようこそ - ECPv4.4.3//NONSGML v1.0//EN
CALSCALE:GREGORIAN
METHOD:PUBLISH
X-WR-CALNAME:池田聡のOFFICIAL SITEへようこそ
X-ORIGINAL-URL:https://satoshi.net
X-WR-CALDESC:Events for 池田聡のOFFICIAL SITEへようこそ
BEGIN:VEVENT
DTSTART;VALUE=DATE:20220916
DTEND;VALUE=DATE:20220916
DTSTAMP:20260424T142956
CREATED:20220707T122624Z
LAST-MODIFIED:20220707T122624Z
UID:4019-1663286400-1663372799@satoshi.net
SUMMARY:アルバム発売記念 九州ツアー2022 ぶらりツアー 熊本
DESCRIPTION:【 日程 】2022年9月16日(金)\n【 会場 】Restaurant Bar CIB\n（〒860-0806 熊本県熊本市花畑町11-14 KOHENビル2F）\nhttp://cib-co.jp/\n【 開場 】18:00\n【 開演 】19:30\n【 Special guest & support 】MICA(p/f)\n【 料金 】前売5\,000円 / 当日5\,500円\n（1ドリンク別途要）\n【 LIVE内容 】\n耳馴染みのあるヒット曲を中心にスタンダードを揃えたザ池田聡的LIVE。35th新曲披露もあり、初参加の方には特にススメ！\n熊本会場は地元の歌姫MICAさんのSpecialコーナー有り‼️\n【 ご予約・お問合わせ 】\nRestaurant Bar CIB TEL：096-355-1001\n\n【 ご注意事項 】\n《 新型コロナウイルスへの注意事項 》\n発熱、マスク着用、消毒」等の状況に応じた防疫のガイドラインの遵守、モラルに添った行動をお願い致します。\n＊急なキャンセルは、他のご予約希望のお客様のご迷惑になる場合もございますので、公演1週間前までにお願いいたします。\n＊撮影、録音、録画はご遠慮ください。\n＊フラッシュやシャッター音、雑音等で他のお客様にご迷惑行為があった際はご退場頂く場合がございますので、ご了承ください。
URL:https://satoshi.net/event/%e3%82%a2%e3%83%ab%e3%83%90%e3%83%a0%e7%99%ba%e5%a3%b2%e8%a8%98%e5%bf%b5-%e4%b9%9d%e5%b7%9e%e3%83%84%e3%82%a2%e3%83%bc2022-%e3%81%b6%e3%82%89%e3%82%8a%e3%83%84%e3%82%a2%e3%83%bc-%e7%86%8a%e6%9c%ac/
LOCATION:花畑町11-14\, 熊本市\, 熊本県
CATEGORIES:01.ライヴ
END:VEVENT
END:VCALENDAR