BEGIN:VCALENDAR
VERSION:2.0
PRODID:-//池田聡のOFFICIAL SITEへようこそ - ECPv4.4.3//NONSGML v1.0//EN
CALSCALE:GREGORIAN
METHOD:PUBLISH
X-WR-CALNAME:池田聡のOFFICIAL SITEへようこそ
X-ORIGINAL-URL:https://satoshi.net
X-WR-CALDESC:Events for 池田聡のOFFICIAL SITEへようこそ
BEGIN:VEVENT
DTSTART;VALUE=DATE:20230304
DTEND;VALUE=DATE:20230304
DTSTAMP:20260424T191506
CREATED:20230118T151043Z
LAST-MODIFIED:20230118T151043Z
UID:4360-1677888000-1677974399@satoshi.net
SUMMARY:アルバム発売記念ツアー2023 ぶらりツアー 岡山
DESCRIPTION:【 日程 】2023年3月4日(土)\n【 会場 】城下カフェ\n（〒700-0822 岡山市表町1-1-8 ライオンズタワー岡山表町1F）\n【 開場 】17:00\n【 開演 】17:30\n【 料金 】4\,500円（税込・全席自由・別途1D）\n【ご予約・お問合せ】\n城下カフェ岡山髙島屋店 ：℡086-221-1800\n\n【 新型コロナウイルスへの注意事項 】\n ＊「発熱、マスク着用、消毒」等の状況に応じた防疫のガイドラインの遵守、モラルに添った行動をお願い致します。\n\n【 ご注意事項 】\n＊急なキャンセルは他のご予約希望のお客様のご迷惑になる場合もございますので、公演1週間前までにお願いいたします。\n＊撮影、録音、録画はご遠慮ください。\n＊フラッシュやシャッター音、雑音等で他のお客様にご迷惑行為があった際はご退場頂く場合がございますので、ご了承ください。
URL:https://satoshi.net/event/%e3%82%a2%e3%83%ab%e3%83%90%e3%83%a0%e7%99%ba%e5%a3%b2%e8%a8%98%e5%bf%b5%e3%83%84%e3%82%a2%e3%83%bc2023-%e3%81%b6%e3%82%89%e3%82%8a%e3%83%84%e3%82%a2%e3%83%bc-%e5%b2%a1%e5%b1%b1/
LOCATION:表町1-1-8\, 岡山市\, 岡山県\, Japan
CATEGORIES:01.ライヴ
END:VEVENT
END:VCALENDAR