BEGIN:VCALENDAR
VERSION:2.0
PRODID:-//池田聡のOFFICIAL SITEへようこそ - ECPv4.4.3//NONSGML v1.0//EN
CALSCALE:GREGORIAN
METHOD:PUBLISH
X-WR-CALNAME:池田聡のOFFICIAL SITEへようこそ
X-ORIGINAL-URL:https://satoshi.net
X-WR-CALDESC:Events for 池田聡のOFFICIAL SITEへようこそ
BEGIN:VEVENT
DTSTART;VALUE=DATE:20230129
DTEND;VALUE=DATE:20230129
DTSTAMP:20260424T180245
CREATED:20221124T062607Z
LAST-MODIFIED:20221124T063835Z
UID:4298-1674950400-1675036799@satoshi.net
SUMMARY:アルバム発売記念ツアー2023 ぶらりツアー 五條市
DESCRIPTION:【 日程 】2023年1月29日(日)\n【 会場 】Live&Cafe My Dream（〒637-0041 奈良県五條市本町1-10-3）\nhttp://www.kozomusic.com/\nhttps://www.facebook.com/people/LiveCafe-MyDream/100057689940704/\n【 開場 】15:30\n【 開演 】16:00\n【 料金 】前売り4\,500円、当日5\,000円（1Dr別）\n【ご予約・お問合せ】\nLive&Cafe My Dream\n℡：090-3265-6636\nMail：actless-635@softbank.ne.jp\n【 新型コロナウイルスへの注意事項 】\n「発熱、マスク着用、消毒」等の状況に応じた防疫のガイドラインの遵守、モラルに添った行動をお願い致します。\n\n【 ご注意事項 】\n＊急なキャンセルは他のご予約希望のお客様のご迷惑になる場合もございますので、公演1週間前までにお願いいたします。\n＊撮影、録音、録画はご遠慮ください。\n＊フラッシュやシャッター音、雑音等で他のお客様にご迷惑行為があった際はご退場頂く場合がございますので、ご了承ください。\n\n関西ツアー2023 フライヤー
URL:https://satoshi.net/event/%e3%82%a2%e3%83%ab%e3%83%90%e3%83%a0%e7%99%ba%e5%a3%b2%e8%a8%98%e5%bf%b5%e3%83%84%e3%82%a2%e3%83%bc2023-%e3%81%b6%e3%82%89%e3%82%8a%e3%83%84%e3%82%a2%e3%83%bc-%e4%ba%94%e6%a2%9d%e5%b8%82/
LOCATION:本町1-10-3\, 五條市\, 奈良県\, 637-0041\, Japan
CATEGORIES:01.ライヴ
END:VEVENT
END:VCALENDAR