BEGIN:VCALENDAR
VERSION:2.0
PRODID:-//池田聡のOFFICIAL SITEへようこそ - ECPv4.4.3//NONSGML v1.0//EN
CALSCALE:GREGORIAN
METHOD:PUBLISH
X-WR-CALNAME:池田聡のOFFICIAL SITEへようこそ
X-ORIGINAL-URL:https://satoshi.net
X-WR-CALDESC:Events for 池田聡のOFFICIAL SITEへようこそ
BEGIN:VEVENT
DTSTART;VALUE=DATE:20221014
DTEND;VALUE=DATE:20221014
DTSTAMP:20260424T125915
CREATED:20220831T115515Z
LAST-MODIFIED:20220831T115515Z
UID:4153-1665705600-1665791999@satoshi.net
SUMMARY:アルバム発売記念ツアー2022 medium TAMAYURAツアー 西尾
DESCRIPTION:【 日程 】2022年10月14日(金)\n【 会場 】さんがい亭 （〒445-0075 愛知県西尾市戸ケ崎3丁目19-28）\nhttp://www.katch.ne.jp/~yufusa/\n【 開場 】18:00\n【 開演 】19:00\n【 料金 】前売り4\,500円 / 当日5\,000円(全席自由 / 別途1ドリンク要)\n【 サポートミュージシャン 】近藤浩之(Dr＆perc）\n【 予約開始日程 】2022年9月1日(木)am11:00〜（火曜定休）\n【お問合せ・ご予約】\nMail：‭kueitsushiyo@gmail.com‬\nTEL：0563-57-4444（火曜定休）\n※ ご予約受付順のご入場となります。\n※ 電話は出れない場合がございますのでgmail をお勧めします。後ほど入店順をお知らせしますのでお名前・携帯電話番号・チケット枚数の記入を必ずお願いします。\n\n【 新型コロナウイルスへの注意事項 】\n＊「発熱、マスク着用、消毒」等の状況に応じた防疫のガイドラインの遵守、モラルに添った行動をお願い致します。\n\n【 ご注意事項 】\n＊急なキャンセルは他のご予約希望のお客様のご迷惑になる場合もございますので、公演1週間前までにお願いいたします。\n＊撮影、録音、録画はご遠慮ください。\n＊フラッシュやシャッター音、雑音等で他のお客様にご迷惑行為があった際はご退場頂く場合がございますので、ご了承ください。
URL:https://satoshi.net/event/%e3%82%a2%e3%83%ab%e3%83%90%e3%83%a0%e7%99%ba%e5%a3%b2%e8%a8%98%e5%bf%b5%e3%83%84%e3%82%a2%e3%83%bc2022-medium-tamayura%e3%83%84%e3%82%a2%e3%83%bc-%e8%a5%bf%e5%b0%be/
LOCATION:戸ケ崎3丁目19-28\, 西尾市\, 愛知県\, 445-0075\, Japan
CATEGORIES:01.ライヴ
END:VEVENT
END:VCALENDAR