BEGIN:VCALENDAR
VERSION:2.0
PRODID:-//池田聡のOFFICIAL SITEへようこそ - ECPv4.4.3//NONSGML v1.0//EN
CALSCALE:GREGORIAN
METHOD:PUBLISH
X-WR-CALNAME:池田聡のOFFICIAL SITEへようこそ
X-ORIGINAL-URL:https://satoshi.net
X-WR-CALDESC:Events for 池田聡のOFFICIAL SITEへようこそ
BEGIN:VEVENT
DTSTART;VALUE=DATE:20221119
DTEND;VALUE=DATE:20221119
DTSTAMP:20260424T142911
CREATED:20220926T165611Z
LAST-MODIFIED:20220926T165611Z
UID:4207-1668816000-1668902399@satoshi.net
SUMMARY:アルバム発売記念ツアー2022 medium TAMAYURAツアー 四日市
DESCRIPTION:【 日程 】2022年11月19日(土)\n【 会場 】ガリバー（ 〒510-0954 三重県四日市市采女町823-1）\nhttp://www.galliver.gr.jp/\n【 開場 】17:30\n【 開演 】18:00\n【 料金 】前売り4\,500円 / 当日5\,000円(全席自由 / 別途1ドリンク要)\n【 サポートミュージシャン 】近藤浩之(Dr＆perc）\n【お問合せ・ご予約】\nガリバー\nMail：galliver@cty-net.ne.jp\n＊ご予約の場合\n件名：「池田聡ライブ予約」\n本文：お名前と人数\nをご記入の上、ご送信ください。\n\n【 新型コロナウイルスへの注意事項 】\n＊「発熱、マスク着用、消毒」等の状況に応じた防疫のガイドラインの遵守、モラルに添った行動をお願い致します。\n\n【 ご注意事項 】\n＊急なキャンセルは他のご予約希望のお客様のご迷惑になる場合もございますので、公演1週間前までにお願いいたします。\n＊撮影、録音、録画はご遠慮ください。\n＊フラッシュやシャッター音、雑音等で他のお客様にご迷惑行為があった際はご退場頂く場合がございますので、ご了承ください。
URL:https://satoshi.net/event/%e3%82%a2%e3%83%ab%e3%83%90%e3%83%a0%e7%99%ba%e5%a3%b2%e8%a8%98%e5%bf%b5%e3%83%84%e3%82%a2%e3%83%bc2022-medium-tamayura%e3%83%84%e3%82%a2%e3%83%bc-%e5%9b%9b%e6%97%a5%e5%b8%82/
LOCATION:采女町823-1\, 四日市市\, 三重県\, 510-0954
CATEGORIES:01.ライヴ
END:VEVENT
END:VCALENDAR