BEGIN:VCALENDAR
VERSION:2.0
PRODID:-//池田聡のOFFICIAL SITEへようこそ - ECPv4.4.3//NONSGML v1.0//EN
CALSCALE:GREGORIAN
METHOD:PUBLISH
X-WR-CALNAME:池田聡のOFFICIAL SITEへようこそ
X-ORIGINAL-URL:https://satoshi.net
X-WR-CALDESC:Events for 池田聡のOFFICIAL SITEへようこそ
BEGIN:VEVENT
DTSTART;VALUE=DATE:20221028
DTEND;VALUE=DATE:20221028
DTSTAMP:20260424T142834
CREATED:20220918T045249Z
LAST-MODIFIED:20220918T045249Z
UID:4184-1666915200-1667001599@satoshi.net
SUMMARY:アルバム発売記念ツアー2022 ぶらりツアー水戸
DESCRIPTION:【 日程 】2022年10月28日(金)\n【 会場 】Girl talk（〒310-0804 茨城県水戸市白梅1丁目7−6 2F）\nhttp://www.girltalk.co.jp/index.shtml\n【 開場 】18:00\n【 開演 】19:00\n【 料金 】前売り4\,500円 / 当日5\,000円（税込み・全席指定・2オーダー別途要）\n【 ご予約 】\n発売日：メール予約のみ。\nMail：info@girltalk.co.jp\n【 お問合せ 】\nGirl talk : ℡：029-225-0050\n\n【 ご注意事項 】\n＊新型コロナウイルスへの注意事項「発熱、マスク着用、消毒」等の状況に応じた防疫のガイドラインの遵守、モラルに添った行動をお願い致します。\n＊キャンセル等につきましては、感染防止対策の為お座席数に限りがありますので、キャンセルのご連絡は1週間前迄にお願い致します。\n＊撮影、録音、録画はご遠慮ください。\n＊フラッシュやシャッター音、雑音等で他のお客様にご迷惑行為があった際はご退場頂くか、公演自体中止になる場合がございますので、ご了承ください。
URL:https://satoshi.net/event/%e3%82%a2%e3%83%ab%e3%83%90%e3%83%a0%e7%99%ba%e5%a3%b2%e8%a8%98%e5%bf%b5%e3%83%84%e3%82%a2%e3%83%bc2022-%e3%81%b6%e3%82%89%e3%82%8a%e3%83%84%e3%82%a2%e3%83%bc%e6%b0%b4%e6%88%b8/
LOCATION:白梅1丁目7−6\, 水戸市\, 茨城県\, 〒310-0804\, Japan
CATEGORIES:01.ライヴ
END:VEVENT
END:VCALENDAR